Workbook

Sheet ==HUNTER by BLIND==
A1: DATE | B1: B1 | C1: B2 | D1: B3 | E1: B4 | F1: B5 | G1: C1 | H1: C2 | I1: C3 | J1: C4 | K1: F1 | L1: F2 | M1: H1 | N1: I1 | O1: J1 | P1: J2 | Q1: 01 | R1: 02 | S1: 03 | T1: 04 | U1: 12 | V1: 13 | W1: 14 | X1: 15 | Y1: 16 | Z1: 17 | AA1: 18 | AB1: 19 | AC1: 20 | AD1: 21 | AE1: 22 | AF1: 40 | AG1: 41 | AH1: 42 | AI1: 43 | AJ1: 44 | AK1: 45 | AL1: 46 | AM1: 47 | AN1: 48 | AO1: 50 | AP1: 60 | AQ1: 61 | AR1: TOTAL
A2: 45577 | D2: 2 | F2: 1 | G2: 2 | J2: 2 | M2: 2 | N2: 1 | O2: 1 | Q2: 4 | R2: 3 | S2: 3 | T2: 2 | U2: 3 | W2: 3 | X2: 3 | Y2: 1 | AA2: 1 | AB2: 3 | AC2: 1 | AD2: 3 | AL2: 3 | AM2: 2 | AR2: =SUM(B2:AQ2) -> 46
A3: 45578 | N3: 1 | R3: 2 | S3: 3 | T3: 1 | U3: 4 | V3: 2 | W3: 2 | X3: 2 | Y3: 3 | AB3: 2 | AL3: 3 | AM3: 1 | AR3: =SUM(B3:AQ3) -> 26
A4: 45581 | C4: 1 | I4: 2 | J4: 1 | Q4: 2 | R4: 4 | S4: 5 | U4: 2 | W4: 4 | X4: 4 | Y4: 2 | Z4: 1 | AA4: 3 | AB4: 2 | AC4: 1 | AD4: 1 | AL4: 1 | AM4: 1 | AR4: =SUM(B4:AQ4) -> 37
A5: 45584 | E5: 2 | I5: 4 | M5: 1 | N5: 2 | O5: 2 | Q5: 3 | R5: 4 | S5: 6 | T5: 1 | U5: 2 | V5: 1 | W5: 2 | X5: 3 | Y5: 3 | AL5: 2 | AM5: 1 | AR5: =SUM(B5:AQ5) -> 39
A6: 45585 | D6: 2 | Q6: 3 | R6: 4 | S6: 3 | U6: 3 | W6: 3 | X6: 1 | Y6: 3 | AA6: 1 | AR6: =SUM(B6:AQ6) -> 23
A7: 45588 | E7: 1 | I7: 2 | Q7: 2 | R7: 3 | S7: 3 | U7: 6 | V7: 1 | W7: 3 | X7: 3 | Z7: 1 | AA7: 2 | AR7: =SUM(B7:AQ7) -> 27
A8: 45591 | B8: 2 | E8: 4 | Q8: 2 | R8: 5 | S8: 4 | U8: 4 | W8: 3 | X8: 4 | Y8: 3 | AD8: 2 | AR8: =SUM(B8:AQ8) -> 33
A9: 45592 | C9: 1 | I9: 4 | N9: 2 | Q9: 1 | R9: 2 | S9: 5 | T9: 1 | U9: 5 | W9: 2 | X9: 2 | Y9: 3 | AM9: 1 | AR9: =SUM(B9:AQ9) -> 29
A10: 45595 | AR10: =SUM(B10:AQ10) -> 0
A11: 45598 | E11: 1 | I11: 2 | J11: 2 | N11: 1 | Q11: 1 | R11: 2 | S11: 4 | U11: 3 | W11: 4 | X11: 4 | Y11: 1 | AD11: 2 | AL11: 1 | AR11: =SUM(B11:AQ11) -> 28
A12: 45599 | E12: 2 | N12: 1 | Q12: 1 | R12: 4 | S12: 4 | U12: 5 | V12: 3 | W12: 4 | X12: 4 | AM12: 2 | AR12: =SUM(B12:AQ12) -> 30
A13: 45602 | E13: 2 | I13: 4 | N13: 3 | R13: 4 | S13: 3 | U13: 1 | W13: 1 | X13: 1 | AL13: 3 | AR13: =SUM(B13:AQ13) -> 22
A14: 45605 | N14: 1 | R14: 1 | S14: 2 | U14: 3 | X14: 1 | AR14: =SUM(B14:AQ14) -> 8
A15: 45607 | I15: 1 | N15: 2 | Q15: 2 | R15: 2 | S15: 3 | U15: 3 | W15: 4 | X15: 2 | AC15: 2 | AR15: =SUM(B15:AQ15) -> 21
A16: 45609 | C16: 1 | I16: 2 | Q16: 2 | R16: 3 | S16: 4 | U16: 3 | W16: 4 | X16: 3 | AB16: 3 | AE16: 2 | AR16: =SUM(B16:AQ16) -> 27
A17: 45612 | M17: 2 | N17: 3 | Q17: 4 | R17: 4 | S17: 3 | U17: 6 | V17: 5 | W17: 4 | X17: 2 | Y17: 2 | Z17: 4 | AC17: 3 | AR17: =SUM(B17:AQ17) -> 42
A18: 45613 | M18: 2 | N18: 1 | O18: 1 | Q18: 8 | R18: 4 | S18: 5 | U18: 3 | V18: 3 | W18: 5 | X18: 2 | Y18: 3 | Z18: 1 | AB18: 4 | AL18: 2 | AM18: 1 | AQ18: 1 | AR18: =SUM(B18:AQ18) -> 46
A19: 45616 | I19: 1 | Q19: 3 | R19: 3 | S19: 6 | U19: 4 | V19: 2 | W19: 2 | X19: 1 | Y19: 1 | AB19: 1 | AE19: 1 | AL19: 3 | AR19: =SUM(B19:AQ19) -> 28
A20: 45619 | C20: 1 | E20: 3 | I20: 3 | J20: 1 | N20: 4 | Q20: 4 | R20: 5 | S20: 4 | U20: 4 | W20: 4 | X20: 2 | Y20: 4 | AB20: 3 | AC20: 2 | AE20: 1 | AL20: 3 | AM20: 1 | AR20: =SUM(B20:AQ20) -> 49
A21: 45620 | I21: 1 | J21: 1 | Q21: 1 | R21: 2 | S21: 4 | U21: 3 | W21: 4 | X21: 4 | Y21: 4 | AB21: 3 | AE21: 2 | AM21: 1 | AR21: =SUM(B21:AQ21) -> 30
A22: 45623 | B22: 2 | D22: 2 | I22: 2 | N22: 2 | Q22: 4 | R22: 1 | S22: 6 | U22: 4 | W22: 4 | X22: 3 | Y22: 3 | AA22: 2 | AB22: 2 | AC22: 2 | AD22: 1 | AO22: 1 | AR22: =SUM(B22:AQ22) -> 41
A23: 45624 | C23: 1 | Q23: 2 | R23: 2 | S23: 6 | U23: 4 | V23: 3 | W23: 3 | X23: 3 | AB23: 2 | AC23: 4 | AL23: 4 | AR23: =SUM(B23:AQ23) -> 34
A24: 45626 | D24: 2 | I24: 1 | J24: 2 | N24: 1 | Q24: 4 | R24: 4 | S24: 4 | U24: 4 | W24: 3 | X24: 3 | Y24: 2 | AA24: 4 | AB24: 3 | AD24: 3 | AM24: 2 | AR24: =SUM(B24:AQ24) -> 42
A25: 45627 | D25: 2 | E25: 2 | I25: 2 | N25: 3 | Q25: 2 | R25: 6 | S25: 4 | U25: 4 | V25: 1 | W25: 4 | X25: 5 | Y25: 1 | Z25: 3 | AB25: 2 | AD25: 4 | AE25: 1 | AR25: =SUM(B25:AQ25) -> 46
A26: 45630 | N26: 3 | Q26: 3 | R26: 4 | S26: 4 | U26: 5 | W26: 2 | X26: 4 | AA26: 2 | AB26: 3 | AC26: 1 | AD26: 4 | AE26: 3 | AR26: =SUM(B26:AQ26) -> 38
A27: 45633 | I27: 1 | M27: 1 | N27: 2 | Q27: 3 | R27: 3 | S27: 5 | U27: 3 | V27: 2 | W27: 3 | X27: 1 | AB27: 2 | AE27: 4 | AR27: =SUM(B27:AQ27) -> 30
A28: 45634 | C28: 2 | D28: 2 | E28: 3 | F28: 1 | I28: 2 | N28: 2 | O28: 1 | Q28: 2 | R28: 3 | S28: 7 | U28: 4 | W28: 4 | X28: 4 | Y28: 3 | AB28: 3 | AC28: 3 | AD28: 3 | AE28: 1 | AL28: 3 | AM28: 3 | AR28: =SUM(B28:AQ28) -> 56
A29: 45637 | D29: 2 | Q29: 2 | R29: 5 | S29: 4 | T29: 1 | U29: 5 | W29: 4 | X29: 4 | Y29: 2 | Z29: 4 | AA29: 3 | AB29: 3 | AC29: 1 | AD29: 2 | AE29: 1 | AR29: =SUM(B29:AQ29) -> 43
A30: 45640 | E30: 3 | I30: 3 | N30: 3 | Q30: 2 | R30: 2 | S30: 5 | U30: 3 | V30: 1 | W30: 3 | X30: 5 | Y30: 4 | AB30: 4 | AC30: 3 | AD30: 6 | AE30: 6 | AL30: 3 | AM30: 2 | AR30: =SUM(B30:AQ30) -> 58
A31: 45641 | D31: 1 | E31: 2 | H31: 4 | I31: 2 | M31: 1 | O31: 3 | Q31: 2 | R31: 6 | S31: 6 | U31: 3 | V31: 1 | W31: 3 | X31: 4 | AA31: 2 | AB31: 3 | AD31: 4 | AE31: 3 | AR31: =SUM(B31:AQ31) -> 50
A32: 45644 | C32: 1 | D32: 2 | E32: 1 | H32: 1 | I32: 3 | J32: 1 | N32: 3 | Q32: 2 | R32: 5 | S32: 7 | U32: 3 | V32: 3 | W32: 3 | X32: 4 | Y32: 3 | AB32: 1 | AC32: 2 | AD32: 4 | AE32: 1 | AL32: 1 | AM32: 3 | AR32: =SUM(B32:AQ32) -> 54
A33: 45647 | D33: 2 | I33: 1 | N33: 2 | Q33: 1 | R33: 4 | S33: 4 | U33: 4 | W33: 3 | X33: 2 | AA33: 2 | AB33: 1 | AC33: 1 | AD33: 3 | AL33: 1 | AR33: =SUM(B33:AQ33) -> 31
A34: 45648 | C34: 1 | F34: 1 | N34: 2 | Q34: 4 | R34: 4 | S34: 2 | U34: 3 | W34: 3 | X34: 3 | Y34: 4 | AB34: 1 | AC34: 1 | AD34: 4 | AE34: 4 | AM34: 1 | AR34: =SUM(B34:AQ34) -> 38
A35: 45654 | C35: 1 | D35: 2 | E35: 1 | H35: 2 | I35: 1 | M35: 1 | N35: 1 | O35: 1 | Q35: 4 | R35: 4 | S35: 5 | U35: 3 | V35: 1 | W35: 2 | X35: 4 | Y35: 2 | AB35: 2 | AD35: 3 | AE35: 3 | AL35: 2 | AM35: 3 | AR35: =SUM(B35:AQ35) -> 48
A36: 45655 | D36: 2 | E36: 3 | I36: 2 | J36: 1 | K36: 2 | M36: 3 | N36: 2 | Q36: 5 | R36: 4 | S36: 7 | U36: 4 | W36: 6 | X36: 4 | AC36: 2 | AD36: 2 | AE36: 2 | AM36: 2 | AR36: =SUM(B36:AQ36) -> 53
A37: 45658 | D37: 2 | G37: 2 | I37: 1 | J37: 2 | M37: 1 | N37: 1 | Q37: 3 | R37: 7 | S37: 4 | T37: 2 | U37: 5 | V37: 4 | W37: 3 | X37: 4 | Y37: 3 | Z37: 3 | AA37: 2 | AB37: 4 | AD37: 3 | AL37: 4 | AM37: 3 | AR37: =SUM(B37:AQ37) -> 63
A38: 45661 | C38: 2 | D38: 4 | I38: 1 | J38: 4 | M38: 3 | Q38: 3 | R38: 7 | S38: 4 | U38: 4 | W38: 4 | X38: 4 | Y38: 3 | Z38: 2 | AA38: 2 | AB38: 4 | AC38: 1 | AD38: 7 | AE38: 2 | AJ38: 4 | AL38: 3 | AM38: 1 | AR38: =SUM(B38:AQ38) -> 69
A39: 45662 | C39: 2 | E39: 2 | F39: 1 | I39: 1 | N39: 2 | Q39: 5 | R39: 3 | S39: 4 | U39: 4 | W39: 2 | X39: 3 | AC39: 2 | AE39: 1 | AL39: 1 | AM39: 3 | AR39: =SUM(B39:AQ39) -> 36
A40: 45665 | D40: 1 | I40: 2 | N40: 2 | P40: 1 | Q40: 2 | R40: 3 | S40: 6 | U40: 6 | W40: 4 | Y40: 3 | AA40: 3 | AB40: 2 | AC40: 1 | AD40: 3 | AE40: 2 | AL40: 2 | AR40: =SUM(B40:AQ40) -> 43
A41: 45668 | B41: 1 | C41: 1 | D41: 1 | E41: 5 | F41: 2 | I41: 2 | J41: 2 | M41: 2 | N41: 2 | O41: 1 | P41: 3 | Q41: 3 | R41: 4 | S41: 4 | U41: 4 | V41: 3 | W41: 6 | X41: 4 | Y41: 4 | AB41: 4 | AC41: 4 | AD41: 2 | AE41: 4 | AL41: 3 | AR41: =SUM(B41:AQ41) -> 71
A42: 45669 | C42: 1 | D42: 2 | E42: 2 | F42: 2 | J42: 2 | Q42: 2 | R42: 3 | S42: 4 | U42: 4 | V42: 4 | W42: 4 | X42: 3 | AC42: 2 | AE42: 2 | AF42: 1 | AR42: =SUM(B42:AQ42) -> 38
A43: 45672 | C43: 1 | D43: 1 | E43: 2 | I43: 1 | J43: 1 | Q43: 2 | R43: 4 | S43: 4 | U43: 4 | V43: 2 | W43: 4 | X43: 4 | AB43: 4 | AL43: 2 | AM43: 2 | AR43: =SUM(B43:AQ43) -> 38
A44: 45675 | E44: 2 | I44: 4 | J44: 2 | N44: 1 | Q44: 5 | R44: 4 | S44: 3 | U44: 4 | V44: 4 | W44: 4 | X44: 5 | Y44: 3 | AA44: 3 | AB44: 2 | AC44: 7 | AD44: 2 | AE44: 4 | AL44: 1 | AM44: 1 | AR44: =SUM(B44:AQ44) -> 61
A45: 45676 | C45: 1 | F45: 1 | Q45: 2 | R45: 2 | S45: 4 | U45: 4 | W45: 4 | X45: 4 | Y45: 1 | AB45: 3 | AC45: 2 | AE45: 1 | AL45: 1 | AM45: 2 | AR45: =SUM(B45:AQ45) -> 32
A46: 45679 | Q46: 3 | R46: 3 | S46: 3 | U46: 4 | W46: 2 | X46: 2 | Y46: 2 | Z46: 4 | AB46: 1 | AC46: 2 | AD46: 2 | AE46: 1 | AL46: 1 | AM46: 3 | AN46: 1 | AR46: =SUM(B46:AQ46) -> 34
A47: 45682 | Q47: 5 | R47: 7 | S47: 4 | U47: 6 | V47: 5 | W47: 2 | X47: 4 | Y47: 2 | AA47: 5 | AB47: 5 | AC47: 5 | AD47: 4 | AE47: 3 | AL47: 3 | AM47: 2 | AO47: 1 | AR47: =SUM(B47:AQ47) -> 63
A48: 45683 | E48: 3 | Q48: 6 | R48: 8 | S48: 6 | V48: 3 | W48: 3 | X48: 4 | Y48: 3 | Z48: 3 | AA48: 4 | AB48: 2 | AC48: 4 | AD48: 4 | AE48: 2 | AL48: 2 | AN48: 1 | AO48: 4 | AR48: =SUM(B48:AQ48) -> 62
A49: 45689 | I49: 3 | Q49: 3 | R49: 1 | S49: 1 | U49: 2 | W49: 1 | X49: 1 | AR49: =SUM(B49:AQ49) -> 12
A50: BLIND NUMBER | B50: B1 | C50: B2 | D50: B3 | E50: B4 | F50: B5 | G50: C1 | H50: C2 | I50: C3 | J50: C4 | K50: F1 | L50: F2 | M50: H1 | N50: I1 | O50: J1 | P50: J2 | Q50: 01 | R50: 02 | S50: 03 | T50: 04 | U50: 12 | V50: 13 | W50: 14 | X50: 15 | Y50: 16 | Z50: 17 | AA50: 18 | AB50: 19 | AC50: 20 | AD50: 21 | AE50: 22 | AF50: 40 | AG50: 41 | AH50: 42 | AI50: 43 | AJ50: 44 | AK50: 45 | AL50: 46 | AM50: 47 | AN50: 48 | AO50: 50 | AP50: 60 | AQ50: 61
A51: TOTAL HUNTERS | B51: =SUM(B2:B49) -> 5 | C51: =SUM(C2:C49) -> 18 | D51: =SUM(D2:D49) -> 34 | E51: =SUM(E2:E49) -> 46 | F51: =SUM(F2:F49) -> 9 | G51: =SUM(G2:G49) -> 4 | H51: =SUM(H2:H49) -> 7 | I51: =SUM(I2:I49) -> 61 | ... AR51: =SUM(AR2:AR49) -> 1875
H53: Veteran and Active Service Members
H55: Youth Hunt Day
H57: No Canada Goose Hunting

Sheet ==DUCK by BLIND==
A1: DATE | B1: B1 | C1: B2 | D1: B3 | E1: B4 | F1: B5 | G1: C1 | H1: C2 | I1: C3 | J1: C4 | K1: F1 | L1: F2 | M1: H1 | N1: I1 | O1: J1 | P1: J2 | Q1: 01 | R1: 02 | S1: 03 | T1: 04 | U1: 12 | V1: 13 | W1: 14 | X1: 15 | Y1: 16 | Z1: 17 | AA1: 18 | AB1: 19 | AC1: 20 | AD1: 21 | AE1: 22 | AF1: 40 | AG1: 41 | AH1: 42 | AI1: 43 | AJ1: 44 | AK1: 45 | AL1: 46 | AM1: 47 | AN1: 48 | AO1: 50 | AP1: 60 | AQ1: 61 | AR1: TOTAL
A2: ='==HUNTER by BLIND=='!A2 -> 45577 | D2: 2 | F2: 0 | G2: 0 | J2: 0 | M2: 1 | N2: 7 | O2: 0 | Q2: 3 | R2: 4 | S2: 11 | T2: 14 | U2: 18 | W2: 13 | X2: 20 | Y2: 6 | AA2: 2 | AB2: 4 | AC2: 1 | AD2: 0 | AL2: 0 | AM2: 0 | AR2: =SUM(B2:AQ2) -> 106
A3: ='==HUNTER by BLIND=='!A3 -> 45578 | N3: 3 | R3: 6 | S3: 5 | T3: 7 | U3: 0 | V3: 3 | W3: 2 | X3: 2 | Y3: 4 | AB3: 0 | AL3: 0 | AM3: 0 | AR3: =SUM(B3:AQ3) -> 32
A4: ='==HUNTER by BLIND=='!A4 -> 45581 | C4: 0 | I4: 1 | J4: 0 | Q4: 2 | R4: 9 | S4: 35 | U4: 8 | W4: 15 | X4: 5 | Y4: 4 | Z4: 0 | AA4: 0 | AB4: 0 | AC4: 0 | AD4: 0 | AL4: 1 | AM4: 0 | AR4: =SUM(B4:AQ4) -> 80
A5: ='==HUNTER by BLIND=='!A5 -> 45584 | E5: 10 | I5: 2 | M5: 3 | N5: 7 | O5: 0 | Q5: 16 | R5: 6 | S5: 33 | T5: 7 | U5: 14 | V5: 0 | W5: 2 | X5: 5 | Y5: 2 | AL5: 0 | AM5: 0 | AR5: =SUM(B5:AQ5) -> 107
A6: ='==HUNTER by BLIND=='!A6 -> 45585 | D6: 2 | Q6: 4 | R6: 21 | S6: 16 | U6: 21 | W6: 14 | X6: 5 | Y6: 4 | AA6: 0 | AR6: =SUM(B6:AQ6) -> 87
A7: ='==HUNTER by BLIND=='!A7 -> 45588 | E7: 1 | I7: 0 | Q7: 4 | R7: 14 | S7: 19 | U7: 41 | V7: 2 | W7: 12 | X7: 0 | Z7: 0 | AA7: 0 | AR7: =SUM(B7:AQ7) -> 93
A8: ='==HUNTER by BLIND=='!A8 -> 45591 | B8: 0 | E8: 2 | Q8: 0 | R8: 17 | S8: 16 | U8: 19 | W8: 6 | X8: 4 | Y8: 5 | AD8: 0 | AR8: =SUM(B8:AQ8) -> 69
A9: ='==HUNTER by BLIND=='!A9 -> 45592 | C9: 2 | I9: 0 | N9: 7 | Q9: 4 | R9: 13 | S9: 34 | T9: 0 | U9: 2 | W9: 0 | X9: 3 | Y9: 15 | AR9: =SUM(B9:AQ9) -> 80
A10: ='==HUNTER by BLIND=='!A10 -> 45595 | AR10: =SUM(B10:AQ10) -> 0
A11: ='==HUNTER by BLIND=='!A11 -> 45598 | E11: 3 | I11: 0 | J11: 2 | N11: 2 | Q11: 7 | R11: 14 | S11: 28 | U11: 3 | W11: 5 | X11: 1 | Y11: 0 | AD11: 6 | AL11: 0 | AR11: =SUM(B11:AQ11) -> 71
A12: ='==HUNTER by BLIND=='!A12 -> 45599 | E12: 0 | N12: 6 | Q12: 3 | R12: 8 | S12: 28 | U12: 8 | V12: 2 | W12: 7 | X12: 3 | AM12: 0 | AR12: =SUM(B12:AQ12) -> 65
A13: ='==HUNTER by BLIND=='!A13 -> 45602 | E13: 1 | I13: 1 | N13: 8 | R13: 13 | S13: 9 | U13: 7 | W13: 7 | X13: 2 | AL13: 0 | AR13: =SUM(B13:AQ13) -> 48
A14: ='==HUNTER by BLIND=='!A14 -> 45605 | N14: 0 | R14: 7 | S14: 2 | U14: 16 | X14: 7 | AR14: =SUM(B14:AQ14) -> 32
A15: ='==HUNTER by BLIND=='!A15 -> 45607 | I15: 1 | N15: 0 | Q15: 14 | R15: 5 | S15: 21 | U15: 7 | W15: 7 | X15: 14 | AC15: 2 | AR15: =SUM(B15:AQ15) -> 71
A16: ='==HUNTER by BLIND=='!A16 -> 45609 | C16: 0 | I16: 1 | Q16: 14 | R16: 14 | S16: 24 | U16: 21 | W16: 14 | X16: 21 | AB16: 3 | AE16: 3 | AR16: =SUM(B16:AQ16) -> 115
A17: ='==HUNTER by BLIND=='!A17 -> 45612 | M17: 1 | N17: 7 | Q17: 13 | R17: 14 | S17: 8 | U17: 17 | V17: 28 | W17: 14 | X17: 2 | Y17: 2 | Z17: 0 | AC17: 1 | AR17: =SUM(B17:AQ17) -> 107
A18: ='==HUNTER by BLIND=='!A18 -> 45613 | M18: 2 | N18: 0 | O18: 0 | Q18: 1 | R18: 28 | S18: 35 | U18: 6 | V18: 5 | W18: 19 | X18: 3 | Y18: 4 | Z18: 0 | AB18: 4 | AL18: 0 | AM18: 0 | AQ18: 0 | AR18: =SUM(B18:AQ18) -> 107
A19: ='==HUNTER by BLIND=='!A19 -> 45616 | I19: 0 | Q19: 4 | R19: 14 | S19: 14 | U19: 18 | V19: 4 | W19: 3 | X19: 0 | Y19: 0 | AB19: 0 | AE19: 4 | AL19: 0 | AR19: =SUM(B19:AQ19) -> 61
A20: ='==HUNTER by BLIND=='!A20 -> 45619 | C20: 0 | E20: 2 | I20: 2 | J20: 2 | N20: 3 | Q20: 5 | R20: 5 | S20: 28 | U20: 17 | W20: 15 | X20: 2 | Y20: 18 | AB20: 13 | AC20: 3 | AE20: 2 | AL20: 0 | AM20: 0 | AR20: =SUM(B20:AQ20) -> 117
A21: ='==HUNTER by BLIND=='!A21 -> 45620 | I21: 0 | J21: 0 | Q21: 0 | R21: 0 | S21: 19 | U21: 9 | W21: 15 | X21: 4 | Y21: 4 | AB21: 6 | AE21: 4 | AM21: 0 | AR21: =SUM(B21:AQ21) -> 61
A22: ='==HUNTER by BLIND=='!A22 -> 45623 | B22: 0 | D22: 6 | I22: 0 | N22: 3 | Q22: 4 | R22: 7 | S22: 38 | U22: 28 | W22: 20 | X22: 21 | Y22: 1 | AA22: 6 | AB22: 10 | AC22: 5 | AD22: 2 | AO22: 0 | AR22: =SUM(B22:AQ22) -> 151
A23: ='==HUNTER by BLIND=='!A23 -> 45624 | C23: 1 | Q23: 0 | R23: 7 | S23: 30 | U23: 21 | V23: 12 | W23: 1 | X23: 4 | AB23: 14 | AC23: 2 | AL23: 0 | AR23: =SUM(B23:AQ23) -> 92
A24: ='==HUNTER by BLIND=='!A24 -> 45626 | D24: 4 | I24: 3 | J24: 0 | N24: 2 | Q24: 4 | R24: 0 | S24: 28 | U24: 21 | W24: 13 | X24: 10 | Y24: 0 | AA24: 3 | AB24: 1 | AD24: 6 | AM24: 0 | AR24: =SUM(B24:AQ24) -> 95
A25: ='==HUNTER by BLIND=='!A25 -> 45627 | D25: 0 | E25: 0 | I25: 1 | N25: 5 | Q25: 0 | R25: 3 | S25: 28 | U25: 16 | V25: 2 | W25: 1 | X25: 28 | Y25: 4 | Z25: 0 | AB25: 4 | AD25: 10 | AE25: 7 | AR25: =SUM(B25:AQ25) -> 109
A26: ='==HUNTER by BLIND=='!A26 -> 45630 | N26: 1 | Q26: 4 | R26: 28 | S26: 25 | U26: 30 | W26: 4 | X26: 10 | AA26: 0 | AB26: 11 | AC26: 1 | AD26: 2 | AE26: 2 | AR26: =SUM(B26:AQ26) -> 118
A27: ='==HUNTER by BLIND=='!A27 -> 45633 | I27: 1 | M27: 0 | N27: 0 | Q27: 1 | R27: 18 | S27: 27 | U27: 1 | V27: 14 | W27: 8 | X27: 3 | AB27: 5 | AD27: 10 | AR27: =SUM(B27:AQ27) -> 88
A28: ='==HUNTER by BLIND=='!A28 -> 45634 | C28: 5 | D28: 12 | E28: 10 | F28: 1 | I28: 7 | N28: 0 | O28: 0 | Q28: 4 | R28: 21 | S28: 49 | U28: 27 | W28: 4 | X28: 22 | Y28: 5 | AB28: 0 | AC28: 2 | AD28: 9 | AE28: 7 | AL28: 0 | AM28: 0 | AR28: =SUM(B28:AQ28) -> 185
A29: ='==HUNTER by BLIND=='!A29 -> 45637 | D29: 2 | Q29: 10 | R29: 17 | S29: 28 | T29: 2 | U29: 21 | W29: 24 | X29: 17 | Y29: 0 | Z29: 0 | AA29: 0 | AB29: 2 | AC29: 0 | AD29: 2 | AE29: 7 | AR29: =SUM(B29:AQ29) -> 132
A30: ='==HUNTER by BLIND=='!A30 -> 45640 | E30: 0 | I30: 4 | N30: 4 | Q30: 4 | R30: 8 | S30: 35 | U30: 4 | V30: 0 | W30: 2 | X30: 22 | Y30: 0 | AB30: 4 | AC30: 0 | AD30: 4 | AE30: 11 | AL30: 0 | AM30: 0 | AR30: =SUM(B30:AQ30) -> 102
A31: ='==HUNTER by BLIND=='!A31 -> 45641 | D31: 0 | E31: 1 | H31: 2 | I31: 1 | M31: 3 | O31: 2 | Q31: 14 | R31: 8 | S31: 32 | U31: 21 | V31: 2 | W31: 9 | X31: 17 | AA31: 2 | AB31: 0 | AD31: 14 | AE31: 7 | AR31: =SUM(B31:AQ31) -> 135
A32: ='==HUNTER by BLIND=='!A32 -> 45644 | C32: 2 | D32: 10 | E32: 0 | H32: 2 | I32: 6 | J32: 4 | N32: 3 | Q32: 14 | R32: 29 | S32: 42 | U32: 0 | V32: 15 | W32: 3 | X32: 8 | Y32: 1 | AB32: 4 | AC32: 0 | AD32: 3 | AE32: 4 | AL32: 0 | AM32: 0 | AR32: =SUM(B32:AQ32) -> 150
A33: ='==HUNTER by BLIND=='!A33 -> 45647 | D33: 0 | I33: 5 | N33: 1 | Q33: 3 | R33: 26 | S33: 22 | U33: 28 | W33: 20 | X33: 14 | AA33: 0 | AB33: 2 | AC33: 4 | AD33: 9 | AL33: 0 | AR33: =SUM(B33:AQ33) -> 134
A34: ='==HUNTER by BLIND=='!A34 -> 45648 | C34: 4 | F34: 7 | N34: 4 | Q34: 5 | R34: 8 | S34: 14 | U34: 21 | W34: 16 | X34: 19 | AB34: 7 | AC34: 4 | AD34: 7 | AE34: 4 | AM34: 0 | AR34: =SUM(B34:AQ34) -> 120
A35: ='==HUNTER by BLIND=='!A35 -> 45654 | C35: 0 | D35: 9 | E35: 7 | H35: 0 | I35: 7 | M35: 6 | N35: 0 | O35: 0 | Q35: 10 | R35: 28 | S35: 35 | U35: 17 | V35: 7 | W35: 6 | X35: 24 | Y35: 0 | AB35: 1 | AD35: 4 | AE35: 8 | AL35: 1 | AM35: 0 | AR35: =SUM(B35:AQ35) -> 170
A36: ='==HUNTER by BLIND=='!A36 -> 45655 | D36: 3 | E36: 2 | I36: 2 | J36: 2 | K36: 1 | M36: 6 | N36: 6 | Q36: 18 | R36: 24 | S36: 45 | U36: 28 | W36: 29 | X36: 22 | AC36: 1 | AD36: 2 | AE36: 0 | AM36: 0 | AR36: =SUM(B36:AQ36) -> 191
A37: ='==HUNTER by BLIND=='!A37 -> 45658 | D37: 0 | G37: 0 | I37: 1 | J37: 0 | M37: 1 | N37: 3 | Q37: 12 | R37: 4 | S37: 14 | T37: 1 | U37: 12 | V37: 5 | W37: 21 | X37: 23 | Y37: 12 | Z37: 0 | AA37: 4 | AB37: 20 | AD37: 8 | AL37: 0 | AM37: 0 | AR37: =SUM(B37:AQ37) -> 141
A38: ='==HUNTER by BLIND=='!A38 -> 45661 | C38: 0 | D38: 1 | I38: 4 | J38: 0 | M38: 2 | Q38: 16 | R38: 32 | S38: 28 | U38: 12 | W38: 10 | X38: 18 | Y38: 1 | Z38: 0 | AA38: 1 | AB38: 3 | AC38: 3 | AD38: 0 | AE38: 0 | AJ38: 0 | AL38: 0 | AM38: 0 | AR38: =SUM(B38:AQ38) -> 131
A39: ='==HUNTER by BLIND=='!A39 -> 45662 | C39: 0 | E39: 2 | F39: 2 | I39: 2 | N39: 2 | Q39: 3 | R39: 4 | S39: 15 | U39: 12 | W39: 5 | X39: 8 | AC39: 0 | AE39: 0 | AL39: 0 | AM39: 0 | AR39: =SUM(B39:AQ39) -> 55
A40: ='==HUNTER by BLIND=='!A40 -> 45665 | D40: 1 | I40: 5 | N40: 0 | P40: 4 | Q40: 14 | R40: 14 | S40: 38 | U40: 30 | W40: 28 | Y40: 4 | AA40: 0 | AB40: 1 | AC40: 0 | AD40: 0 | AE40: 4 | AL40: 0 | AR40: =SUM(B40:AQ40) -> 143
A41: ='==HUNTER by BLIND=='!A41 -> 45668 | B41: 4 | C41: 5 | D41: 7 | E41: 14 | F41: 12 | I41: 2 | J41: 10 | M41: 2 | N41: 2 | O41: 0 | P41: 0 | Q41: 6 | R41: 21 | S41: 28 | U41: 28 | V41: 0 | W41: 7 | X41: 2 | Y41: 1 | AB41: 14 | AC41: 10 | AD41: 1 | AL41: 0 | AR41: =SUM(B41:AQ41) -> 176
A42: ='==HUNTER by BLIND=='!A42 -> 45669 | C42: 1 | D42: 9 | E42: 3 | F42: 4 | J42: 0 | Q42: 0 | R42: 10 | S42: 28 | U42: 28 | V42: 5 | W42: 12 | X42: 6 | AC42: 3 | AE42: 1 | AF42: 0 | AR42: =SUM(B42:AQ42) -> 110
A43: ='==HUNTER by BLIND=='!A43 -> 45672 | C43: 1 | D43: 2 | E43: 6 | I43: 0 | J43: 4 | Q43: 14 | R43: 27 | S43: 26 | U43: 18 | V43: 1 | W43: 15 | X43: 4 | AB43: 1 | AL43: 3 | AM43: 0 | AR43: =SUM(B43:AQ43) -> 122
A44: ='==HUNTER by BLIND=='!A44 -> 45675 | E44: 3 | I44: 0 | J44: 0 | N44: 3 | Q44: 3 | R44: 20 | S44: 12 | U44: 12 | V44: 0 | W44: 15 | X44: 11 | Y44: 0 | AA44: 3 | AB44: 14 | AC44: 9 | AD44: 4 | AE44: 3 | AL44: 1 | AM44: 0 | AR44: =SUM(B44:AQ44) -> 113
A45: ='==HUNTER by BLIND=='!A45 -> 45676 | C45: 0 | F45: 0 | Q45: 2 | R45: 4 | S45: 13 | U45: 6 | W45: 4 | X45: 21 | Y45: 6 | AB45: 3 | AC45: 2 | AE45: 1 | AL45: 0 | AM45: 0 | AR45: =SUM(B45:AQ45) -> 62
A46: ='==HUNTER by BLIND=='!A46 -> 45679 | Q46: 14 | R46: 21 | S46: 21 | U46: 7 | W46: 8 | X46: 10 | Y46: 1 | Z46: 0 | AB46: 4 | AC46: 4 | AD46: 10 | AE46: 1 | AL46: 0 | AM46: 0 | AN46: 0 | AR46: =SUM(B46:AQ46) -> 101
A47: ='==HUNTER by BLIND=='!A47 -> 45682 | Q47: 23 | R47: 49 | S47: 28 | U47: 1 | V47: 2 | W47: 0 | X47: 28 | Y47: 3 | AA47: 1 | AB47: 5 | AC47: 13 | AD47: 5 | AE47: 2 | AL47: 0 | AM47: 0 | AO47: 0 | AR47: =SUM(B47:AQ47) -> 160
A48: ='==HUNTER by BLIND=='!A48 -> 45683 | E48: 0 | Q48: 22 | R48: 37 | S48: 35 | V48: 2 | W48: 3 | X48: 16 | Y48: 0 | Z48: 0 | AA48: 1 | AB48: 0 | AC48: 2 | AD48: 0 | AE48: 3 | AL48: 0 | AN48: 2 | AO48: 0 | AR48: =SUM(B48:AQ48) -> 123
A49: ='==HUNTER by BLIND=='!A49 -> 45689 | I49: 5 | Q49: 21 | R49: 7 | S49: 7 | U49: 14 | W49: 1 | X49: 0 | AR49: =SUM(B49:AQ49) -> 55
A50: BLIND NUMBER | B50: B1 | C50: B2 | D50: B3 | E50: B4 | F50: B5 | G50: C1 | H50: C2 | I50: C3 | J50: C4 | K50: F1 | L50: F2 | M50: H1 | N50: I1 | O50: J1 | P50: J2 | Q50: 01 | R50: 02 | S50: 03 | T50: 04 | U50: 12 | V50: 13 | W50: 14 | X50: 15 | Y50: 16 | Z50: 17 | AA50: 18 | AB50: 19 | AC50: 20 | AD50: 21 | AE50: 22 | AF50: 40 | AG50: 41 | AH50: 42 | AI50: 43 | AJ50: 44 | AK50: 45 | AL50: 46 | AM50: 47 | AN50: 48 | AO50: 50 | AP50: 60 | AQ50: 61
A51: TOTAL DUCKS | B51: =SUM(B2:B49) -> 4 | C51: =SUM(C2:C49) -> 21 | D51: =SUM(D2:D49) -> 70 | E51: =SUM(E2:E49) -> 67 | F51: =SUM(F2:F49) -> 26 | G51: =SUM(G2:G49) -> 0 | H51: =SUM(H2:H49) -> 4 | I51: =SUM(I2:I49) -> 64 | ... AR51: =SUM(AR2:AR49) -> 4973
A52: AVG DUCKS/HUNTER | B52: =B51/'==HUNTER by BLIND=='!B51 -> 0.8 | C52: =C51/'==HUNTER by BLIND=='!C51 -> 1.1666667 | D52: =D51/'==HUNTER by BLIND=='!D51 -> 2.0588235 | E52: =E51/'==HUNTER by BLIND=='!E51 -> 1.4565217 | F52: =F51/'==HUNTER by BLIND=='!F51 -> 2.8888889 | G52: =G51/'==HUNTER by BLIND=='!G51 -> 0 | H52: =H51/'==HUNTER by BLIND=='!H51 -> 0.57142857 | I52: =I51/'==HUNTER by BLIND=='!I51 -> 1.0491803 | ... AR52: =AR51/'==HUNTER by BLIND=='!AR51 -> 2.6522667
F54: Youth Hunt Day | M54: Veteran and Active Service Members

Sheet ==GOOSE by BLIND==
A1: DATE | B1: B1 | C1: B2 | D1: B3 | E1: B4 | F1: B5 | G1: C1 | H1: C2 | I1: C3 | J1: C4 | K1: F1 | L1: F2 | M1: H1 | N1: I1 | O1: J1 | P1: J2 | Q1: 01 | R1: 02 | S1: 03 | T1: 04 | U1: 12 | V1: 13 | W1: 14 | X1: 15 | Y1: 16 | Z1: 17 | AA1: 18 | AB1: 19 | AC1: 20 | AD1: 21 | AE1: 22 | AF1: 40 | AG1: 41 | AH1: 42 | AI1: 43 | AJ1: 44 | AK1: 45 | AL1: 46 | AM1: 47 | AN1: 48 | AO1: 50 | AP1: 60 | AQ1: 61 | AR1: TOTAL
A2: ='==HUNTER by BLIND=='!A2 -> 45577 | D2: 0 | F2: 0 | G2: 0 | J2: 0 | M2: 0 | N2: 0 | O2: 0 | Q2: 0 | R2: 0 | S2: 0 | T2: 0 | U2: 0 | W2: 0 | X2: 0 | Y2: 0 | AA2: 0 | AB2: 1 | AC2: 0 | AD2: 0 | AL2: 7 | AM2: 2 | AR2: =SUM(B2:AQ2) -> 10
A3: ='==HUNTER by BLIND=='!A3 -> 45578 | N3: 0 | R3: 0 | S3: 0 | T3: 0 | U3: 0 | V3: 0 | W3: 0 | X3: 0 | Y3: 1 | AB3: 0 | AL3: 13 | AM3: 0 | AR3: =SUM(B3:AQ3) -> 14
A4: ='==HUNTER by BLIND=='!A4 -> 45581 | C4: 0 | I4: 0 | J4: 0 | Q4: 0 | R4: 0 | S4: 2 | U4: 0 | W4: 1 | X4: 1 | Y4: 0 | Z4: 0 | AA4: 0 | AB4: 0 | AC4: 0 | AD4: 0 | AL4: 6 | AM4: 2 | AR4: =SUM(B4:AQ4) -> 12
A5: ='==HUNTER by BLIND=='!A5 -> 45584 | E5: 0 | I5: 0 | M5: 0 | N5: 0 | O5: 0 | Q5: 2 | R5: 0 | S5: 1 | T5: 0 | U5: 0 | V5: 0 | W5: 2 | X5: 0 | Y5: 1 | AL5: 4 | AM5: 8 | AR5: =SUM(B5:AQ5) -> 18
A6: ='==HUNTER by BLIND=='!A6 -> 45585 | D6: 0 | Q6: 0 | R6: 0 | S6: 0 | U6: 0 | W6: 0 | X6: 0 | Y6: 0 | AA6: 0 | AR6: =SUM(B6:AQ6) -> 0
A7: ='==HUNTER by BLIND=='!A7 -> 45588 | E7: 0 | I7: 0 | Q7: 0 | R7: 0 | S7: 0 | U7: 0 | V7: 0 | W7: 0 | X7: 0 | Z7: 0 | AA7: 0 | AR7: =SUM(B7:AQ7) -> 0
A8: ='==HUNTER by BLIND=='!A8 -> 45591 | B8: 0 | E8: 0 | Q8: 0 | R8: 0 | S8: 0 | U8: 0 | W8: 0 | X8: 0 | Y8: 0 | AD8: 0 | AR8: =SUM(B8:AQ8) -> 0
A9: ='==HUNTER by BLIND=='!A9 -> 45592 | C9: 0 | I9: 0 | N9: 0 | Q9: 0 | R9: 0 | S9: 1 | T9: 0 | U9: 0 | W9: 0 | X9: 1 | Y9: 0 | AM9: 0 | AR9: =SUM(B9:AQ9) -> 2
A10: ='==HUNTER by BLIND=='!A10 -> 45595 | AR10: =SUM(B10:AQ10) -> 0
A11: ='==HUNTER by BLIND=='!A11 -> 45598 | E11: 0 | I11: 0 | J11: 0 | N11: 0 | Q11: 0 | R11: 0 | S11: 0 | U11: 0 | W11: 0 | X11: 0 | Y11: 0 | AD11: 0 | AL11: 1 | AR11: =SUM(B11:AQ11) -> 1
A12: ='==HUNTER by BLIND=='!A12 -> 45599 | E12: 0 | N12: 0 | Q12: 0 | R12: 0 | U12: 0 | V12: 0 | W12: 0 | X12: 0 | AM12: 0 | AR12: =SUM(B12:AQ12) -> 0
A13: ='==HUNTER by BLIND=='!A13 -> 45602 | E13: 0 | I13: 0 | N13: 0 | R13: 0 | S13: 0 | U13: 0 | W13: 1 | X13: 0 | AL13: 4 | AR13: =SUM(B13:AQ13) -> 5
A14: ='==HUNTER by BLIND=='!A14 -> 45605 | N14: 0 | R14: 0 | S14: 0 | U14: 0 | X14: 1 | AR14: =SUM(B14:AQ14) -> 1
A15: ='==HUNTER by BLIND=='!A15 -> 45607 | I15: 0 | N15: 0 | Q15: 0 | R15: 0 | S15: 0 | U15: 0 | W15: 0 | X15: 3 | AC15: 0 | AR15: =SUM(B15:AQ15) -> 3
A16: ='==HUNTER by BLIND=='!A16 -> 45609 | C16: 0 | I16: 0 | Q16: 0 | R16: 0 | S16: 2 | U16: 0 | W16: 0 | X16: 1 | AB16: 0 | AE16: 0 | AR16: =SUM(B16:AQ16) -> 3
A17: ='==HUNTER by BLIND=='!A17 -> 45612 | M17: 0 | N17: 0 | Q17: 0 | R17: 0 | S17: 0 | U17: 0 | V17: 1 | W17: 0 | X17: 0 | Y17: 0 | Z17: 0 | AC17: 0 | AR17: =SUM(B17:AQ17) -> 1
A18: ='==HUNTER by BLIND=='!A18 -> 45613 | M18: 0 | N18: 0 | O18: 0 | Q18: 0 | R18: 0 | S18: 0 | U18: 0 | V18: 1 | W18: 0 | X18: 0 | Y18: 0 | Z18: 0 | AB18: 0 | AL18: 3 | AM18: 1 | AQ18: 0 | AR18: =SUM(B18:AQ18) -> 5
A19: ='==HUNTER by BLIND=='!A19 -> 45616 | I19: 0 | Q19: 0 | R19: 0 | S19: 0 | U19: 0 | V19: 0 | W19: 0 | X19: 0 | Y19: 0 | AB19: 0 | AE19: 3 | AL19: 0 | AR19: =SUM(B19:AQ19) -> 3
A20: ='==HUNTER by BLIND=='!A20 -> 45619 | C20: 0 | E20: 1 | I20: 1 | J20: 0 | N20: 0 | Q20: 0 | R20: 0 | S20: 0 | U20: 0 | W20: 0 | X20: 0 | Y20: 0 | AB20: 0 | AC20: 0 | AE20: 0 | AL20: 12 | AM20: 0 | AR20: =SUM(B20:AQ20) -> 14
A21: ='==HUNTER by BLIND=='!A21 -> 45620 | I21: 0 | J21: 0 | Q21: 0 | R21: 0 | S21: 0 | U21: 0 | W21: 0 | X21: 0 | Y21: 0 | AB21: 0 | AE21: 0 | AM21: 2 | AR21: =SUM(B21:AQ21) -> 2
A22: ='==HUNTER by BLIND=='!A22 -> 45623 | B22: 0 | D22: 0 | I22: 0 | N22: 0 | Q22: 0 | R22: 0 | S22: 1 | U22: 0 | W22: 0 | X22: 0 | Y22: 0 | AA22: 0 | AB22: 0 | AC22: 0 | AD22: 0 | AO22: 0 | AR22: =SUM(B22:AQ22) -> 1
A23: ='==HUNTER by BLIND=='!A23 -> 45624 | C23: 0 | Q23: 0 | R23: 1 | S23: 1 | U23: 0 | V23: 1 | W23: 0 | X23: 0 | AB23: 0 | AC23: 0 | AL23: 0 | AR23: =SUM(B23:AQ23) -> 3
A24: ='==HUNTER by BLIND=='!A24 -> 45626 | D24: 0 | I24: 0 | J24: 0 | N24: 0 | Q24: 1 | R24: 0 | S24: 0 | U24: 0 | W24: 0 | X24: 0 | Y24: 0 | AA24: 0 | AB24: 0 | AD24: 0 | AM24: 0 | AR24: =SUM(B24:AQ24) -> 1
A25: ='==HUNTER by BLIND=='!A25 -> 45627 | D25: 0 | E25: 0 | I25: 0 | N25: 0 | Q25: 0 | R25: 0 | S25: 0 | U25: 0 | V25: 0 | W25: 0 | X25: 0 | Y25: 0 | Z25: 0 | AB25: 0 | AD25: 0 | AE25: 0 | AR25: =SUM(B25:AQ25) -> 0
A26: ='==HUNTER by BLIND=='!A26 -> 45630 | N26: 0 | Q26: 0 | R26: 0 | S26: 1 | U26: 0 | W26: 0 | X26: 0 | AA26: 0 | AB26: 0 | AC26: 0 | AD26: 0 | AE26: 0 | AR26: =SUM(B26:AQ26) -> 1
A27: ='==HUNTER by BLIND=='!A27 -> 45633 | I27: 0 | M27: 0 | N27: 0 | Q27: 0 | R27: 0 | S27: 0 | U27: 0 | V27: 0 | W27: 0 | X27: 0 | AB27: 0 | AD27: 0 | AR27: =SUM(B27:AQ27) -> 0
A28: ='==HUNTER by BLIND=='!A28 -> 45634 | C28: 0 | D28: 0 | E28: 0 | F28: 0 | I28: 0 | N28: 0 | O28: 0 | Q28: 0 | R28: 1 | S28: 2 | U28: 0 | W28: 0 | X28: 0 | Y28: 1 | AB28: 1 | AC28: 3 | AD28: 0 | AE28: 0 | AL28: 12 | AM28: 0 | AR28: =SUM(B28:AQ28) -> 20
A29: ='==HUNTER by BLIND=='!A29 -> 45637 | D29: 0 | Q29: 0 | R29: 0 | S29: 0 | T29: 0 | U29: 0 | W29: 0 | X29: 0 | Y29: 0 | Z29: 0 | AA29: 0 | AB29: 0 | AC29: 0 | AD29: 0 | AE29: 0 | AR29: =SUM(B29:AQ29) -> 0
A30: ='==HUNTER by BLIND=='!A30 -> 45640 | E30: 0 | I30: 0 | N30: 0 | Q30: 0 | R30: 0 | S30: 2 | U30: 0 | V30: 0 | W30: 0 | X30: 0 | Y30: 0 | AB30: 0 | AC30: 0 | AD30: 0 | AE30: 2 | AL30: 0 | AM30: 0 | AR30: =SUM(B30:AQ30) -> 4
A31: ='==HUNTER by BLIND=='!A31 -> 45641 | D31: 0 | E31: 0 | H31: 0 | I31: 0 | M31: 0 | O31: 0 | Q31: 0 | R31: 0 | S31: 0 | U31: 0 | V31: 0 | W31: 0 | X31: 0 | AA31: 0 | AB31: 0 | AD31: 0 | AE31: 0 | AR31: =SUM(B31:AQ31) -> 0
A32: ='==HUNTER by BLIND=='!A32 -> 45644 | C32: 0 | D32: 1 | E32: 1 | H32: 0 | I32: 1 | J32: 0 | N32: 1 | Q32: 1 | R32: 0 | S32: 1 | U32: 2 | V32: 0 | W32: 1 | X32: 0 | Y32: 0 | AB32: 2 | AC32: 0 | AD32: 2 | AE32: 0 | AL32: 0 | AM32: 0 | AR32: =SUM(B32:AQ32) -> 13
A33: ='==HUNTER by BLIND=='!A33 -> 45647 | D33: 0 | I33: 0 | N33: 0 | Q33: 0 | R33: 2 | S33: 1 | U33: 0 | W33: 0 | X33: 0 | AA33: 0 | AB33: 0 | AC33: 0 | AD33: 0 | AL33: 0 | AR33: =SUM(B33:AQ33) -> 3
A34: ='==HUNTER by BLIND=='!A34 -> 45648 | C34: 0 | F34: 0 | N34: 0 | Q34: 0 | R34: 0 | S34: 2 | U34: 0 | W34: 0 | X34: 0 | AB34: 0 | AC34: 0 | AD34: 0 | AE34: 1 | AM34: 0 | AR34: =SUM(B34:AQ34) -> 3
A35: ='==HUNTER by BLIND=='!A35 -> 45654 | C35: 0 | D35: 0 | E35: 0 | H35: 0 | I35: 0 | M35: 0 | N35: 0 | O35: 0 | Q35: 0 | R35: 0 | S35: 0 | U35: 0 | V35: 0 | W35: 0 | X35: 0 | Y35: 0 | AB35: 0 | AD35: 0 | AE35: 0 | AL35: 9 | AM35: 0 | AR35: =SUM(B35:AQ35) -> 9
A36: ='==HUNTER by BLIND=='!A36 -> 45655 | D36: 0 | E36: 0 | I36: 1 | J36: 0 | K36: 0 | M36: 0 | N36: 0 | Q36: 0 | R36: 0 | S36: 0 | U36: 1 | W36: 0 | X36: 0 | AC36: 0 | AD36: 0 | AE36: 0 | AM36: 6 | AR36: =SUM(B36:AQ36) -> 8
A37: ='==HUNTER by BLIND=='!A37 -> 45658 | D37: 0 | G37: 0 | I37: 0 | J37: 0 | M37: 0 | N37: 0 | Q37: 0 | R37: 0 | S37: 0 | T37: 0 | U37: 0 | V37: 0 | W37: 0 | X37: 0 | Y37: 0 | Z37: 0 | AA37: 0 | AB37: 0 | AD37: 0 | AL37: 0 | AM37: 0 | AR37: =SUM(B37:AQ37) -> 0
A38: ='==HUNTER by BLIND=='!A38 -> 45661 | C38: 0 | D38: 0 | I38: 0 | J38: 0 | M38: 0 | Q38: 0 | R38: 0 | S38: 1 | U38: 0 | W38: 0 | X38: 0 | Y38: 0 | Z38: 0 | AA38: 0 | AB38: 0 | AC38: 0 | AD38: 0 | AE38: 0 | AJ38: 6 | AL38: 0 | AM38: 0 | AR38: =SUM(B38:AQ38) -> 7
A39: ='==HUNTER by BLIND=='!A39 -> 45662 | C39: 0 | E39: 0 | F39: 0 | I39: 0 | N39: 0 | Q39: 0 | R39: 0 | S39: 0 | U39: 0 | W39: 0 | X39: 0 | AC39: 0 | AE39: 0 | AL39: 0 | AM39: 12 | AR39: =SUM(B39:AQ39) -> 12
A40: ='==HUNTER by BLIND=='!A40 -> 45665 | D40: 0 | I40: 0 | N40: 0 | P40: 0 | Q40: 0 | R40: 0 | S40: 2 | U40: 0 | W40: 0 | Y40: 0 | AA40: 0 | AB40: 0 | AC40: 0 | AD40: 1 | AE40: 0 | AL40: 0 | AR40: =SUM(B40:AQ40) -> 3
A41: ='==HUNTER by BLIND=='!A41 -> 45668 | B41: 0 | C41: 0 | D41: 0 | E41: 0 | F41: 0 | I41: 0 | J41: 0 | M41: 0 | N41: 0 | O41: 0 | P41: 0 | Q41: 1 | R41: 0 | S41: 0 | U41: 0 | V41: 0 | W41: 0 | X41: 3 | Y41: 0 | AB41: 0 | AC41: 3 | AD41: 1 | AE41: 1 | AL41: 12 | AR41: =SUM(B41:AQ41) -> 21
A42: ='==HUNTER by BLIND=='!A42 -> 45669 | C42: 0 | D42: 0 | E42: 0 | F42: 0 | J42: 0 | Q42: 0 | R42: 1 | S42: 0 | U42: 0 | V42: 0 | W42: 0 | X42: 1 | AC42: 2 | AE42: 0 | AF42: 0 | AR42: =SUM(B42:AQ42) -> 4
A43: ='==HUNTER by BLIND=='!A43 -> 45672 | C43: 1 | D43: 0 | E43: 0 | I43: 0 | J43: 0 | Q43: 0 | R43: 1 | S43: 0 | U43: 0 | V43: 0 | W43: 0 | X43: 0 | AB43: 0 | AL43: 3 | AM43: 0 | AR43: =SUM(B43:AQ43) -> 5
A44: ='==HUNTER by BLIND=='!A44 -> 45675 | E44: 0 | I44: 0 | J44: 0 | N44: 0 | Q44: 0 | R44: 1 | S44: 0 | U44: 0 | V44: 0 | W44: 0 | X44: 0 | Y44: 0 | AA44: 0 | AB44: 0 | AC44: 0 | AD44: 0 | AE44: 1 | AL44: 0 | AM44: 0 | AR44: =SUM(B44:AQ44) -> 2
A45: ='==HUNTER by BLIND=='!A45 -> 45676 | C45: 0 | F45: 0 | Q45: 0 | R45: 0 | S45: 0 | U45: 0 | W45: 0 | X45: 0 | Y45: 0 | AB45: 0 | AC45: 0 | AE45: 0 | AL45: 0 | AM45: 5 | AR45: =SUM(B45:AQ45) -> 5
A46: ='==HUNTER by BLIND=='!A46 -> 45679 | Q46: 0 | R46: 1 | S46: 1 | U46: 10 | W46: 2 | X46: 1 | Y46: 0 | Z46: 0 | AB46: 0 | AC46: 0 | AD46: 1 | AE46: 4 | AL46: 0 | AM46: 1 | AN46: 0 | AR46: =SUM(B46:AQ46) -> 21
A47: ='==HUNTER by BLIND=='!A47 -> 45682 | Q47: 0 | R47: 0 | S47: 0 | U47: 0 | V47: 0 | W47: 10 | X47: 0 | Y47: 0 | AA47: 0 | AB47: 0 | AC47: 4 | AD47: 0 | AE47: 1 | AL47: 0 | AM47: 0 | AO47: 0 | AR47: =SUM(B47:AQ47) -> 15
A48: ='==HUNTER by BLIND=='!A48 -> 45683 | E48: 0 | Q48: 0 | R48: 0 | S48: 0 | V48: 0 | W48: 0 | X48: 0 | Y48: 0 | Z48: 0 | AA48: 0 | AB48: 0 | AC48: 0 | AD48: 0 | AE48: 0 | AL48: 0 | AN48: 0 | AO48: 0 | AR48: =SUM(B48:AQ48) -> 0
A49: ='==HUNTER by BLIND=='!A49 -> 45689 | I49: 0 | Q49: 0 | R49: 0 | S49: 0 | U49: 0 | W49: 0 | X49: 0 | AR49: =SUM(B49:AQ49) -> 0
A50: BLIND NUMBER | B50: B1 | C50: B2 | D50: B3 | E50: B4 | F50: B5 | G50: C1 | H50: C2 | I50: C3 | J50: C4 | K50: F1 | L50: F2 | M50: H1 | N50: I1 | O50: J1 | P50: J2 | Q50: 01 | R50: 02 | S50: 03 | T50: 04 | U50: 12 | V50: 13 | W50: 14 | X50: 15 | Y50: 16 | Z50: 17 | AA50: 18 | AB50: 19 | AC50: 20 | AD50: 21 | AE50: 22 | AF50: 40 | AG50: 41 | AH50: 42 | AI50: 43 | AJ50: 44 | AK50: 45 | AL50: 46 | AM50: 47 | AN50: 48 | AO50: 50 | AP50: 60 | AQ50: 61
A51: TOTAL GEESE | B51: =SUM(B2:B49) -> 0 | C51: =SUM(C2:C49) -> 1 | D51: =SUM(D2:D49) -> 1 | E51: =SUM(E2:E49) -> 2 | F51: =SUM(F2:F49) -> 0 | G51: =SUM(G2:G49) -> 0 | H51: =SUM(H2:H49) -> 0 | I51: =SUM(I2:I49) -> 3 | ... AR51: =SUM(AR2:AR49) -> 255
A52: AVG GEESE/HUNTER | B52: =B51/'==HUNTER by BLIND=='!B51 -> 0 | C52: =C51/'==HUNTER by BLIND=='!C51 -> 0.055555556 | D52: =D51/'==HUNTER by BLIND=='!D51 -> 0.029411765 | E52: =E51/'==HUNTER by BLIND=='!E51 -> 0.043478261 | F52: =F51/'==HUNTER by BLIND=='!F51 -> 0 | G52: =G51/'==HUNTER by BLIND=='!G51 -> 0 | H52: =H51/'==HUNTER by BLIND=='!H51 -> 0 | I52: =I51/'==HUNTER by BLIND=='!I51 -> 0.049180328 | ... AR52: =AR51/'==HUNTER by BLIND=='!AR51 -> 0.136
P54: Veteran and Active Service Members
P56: Youth Hunt Day
P58: No Canada Goose Hunting

Sheet TOTAL DUCK SUMM
A1: DATE | B1: # DUCKS | C1: # HUNTERS | D1: DUCKS/HUNTER
A2: ='==HUNTER by BLIND=='!A2 -> 45577 | B2: =SUM('==DUCK by BLIND=='!B2:AQ2) -> 106 | C2: =SUM('==HUNTER by BLIND=='!B2:AQ2) -> 46 | D2: =B2/C2 -> 2.3043478
A3: ='==HUNTER by BLIND=='!A3 -> 45578 | B3: =SUM('==DUCK by BLIND=='!B3:AQ3) -> 32 | C3: =SUM('==HUNTER by BLIND=='!B3:AQ3) -> 26 | D3: =B3/C3 -> 1.2307692
A4: ='==HUNTER by BLIND=='!A4 -> 45581 | B4: =SUM('==DUCK by BLIND=='!B4:AQ4) -> 80 | C4: =SUM('==HUNTER by BLIND=='!B4:AQ4) -> 37 | D4: =B4/C4 -> 2.1621622
A5: ='==HUNTER by BLIND=='!A5 -> 45584 | B5: =SUM('==DUCK by BLIND=='!B5:AQ5) -> 107 | C5: =SUM('==HUNTER by BLIND=='!B5:AQ5) -> 39 | D5: =B5/C5 -> 2.7435897
A6: ='==HUNTER by BLIND=='!A6 -> 45585 | B6: =SUM('==DUCK by BLIND=='!B6:AQ6) -> 87 | C6: =SUM('==HUNTER by BLIND=='!B6:AQ6) -> 23 | D6: =B6/C6 -> 3.7826087
A7: ='==HUNTER by BLIND=='!A7 -> 45588 | B7: =SUM('==DUCK by BLIND=='!B7:AQ7) -> 93 | C7: =SUM('==HUNTER by BLIND=='!B7:AQ7) -> 27 | D7: =B7/C7 -> 3.4444444
A8: ='==HUNTER by BLIND=='!A8 -> 45591 | B8: =SUM('==DUCK by BLIND=='!B8:AQ8) -> 69 | C8: =SUM('==HUNTER by BLIND=='!B8:AQ8) -> 33 | D8: =B8/C8 -> 2.0909091
A9: ='==HUNTER by BLIND=='!A9 -> 45592 | B9: =SUM('==DUCK by BLIND=='!B9:AQ9) -> 80 | C9: =SUM('==HUNTER by BLIND=='!B9:AQ9) -> 29 | D9: =B9/C9 -> 2.7586207
A10: ='==HUNTER by BLIND=='!A10 -> 45595 | B10: =SUM('==DUCK by BLIND=='!B10:AQ10) -> 0 | C10: =SUM('==HUNTER by BLIND=='!B10:AQ10) -> 0 | D10: 0
A11: ='==HUNTER by BLIND=='!A11 -> 45598 | B11: =SUM('==DUCK by BLIND=='!B11:AQ11) -> 71 | C11: =SUM('==HUNTER by BLIND=='!B11:AQ11) -> 28 | D11: =B11/C11 -> 2.5357143
A12: ='==HUNTER by BLIND=='!A12 -> 45599 | B12: =SUM('==DUCK by BLIND=='!B12:AQ12) -> 65 | C12: =SUM('==HUNTER by BLIND=='!B12:AQ12) -> 30 | D12: =B12/C12 -> 2.1666667
A13: ='==HUNTER by BLIND=='!A13 -> 45602 | B13: =SUM('==DUCK by BLIND=='!B13:AQ13) -> 48 | C13: =SUM('==HUNTER by BLIND=='!B13:AQ13) -> 22 | D13: =B13/C13 -> 2.1818182
A14: ='==HUNTER by BLIND=='!A14 -> 45605 | B14: =SUM('==DUCK by BLIND=='!B14:AQ14) -> 32 | C14: =SUM('==HUNTER by BLIND=='!C14:AQ14) -> 8 | D14: =B14/C14 -> 4
A15: ='==HUNTER by BLIND=='!A15 -> 45607 | B15: =SUM('==DUCK by BLIND=='!B15:AQ15) -> 71 | C15: =SUM('==HUNTER by BLIND=='!B15:AQ15) -> 21 | D15: =B15/C15 -> 3.3809524
A16: ='==HUNTER by BLIND=='!A16 -> 45609 | B16: =SUM('==DUCK by BLIND=='!B16:AQ16) -> 115 | C16: =SUM('==HUNTER by BLIND=='!B16:AQ16) -> 27 | D16: =B16/C16 -> 4.2592593
A17: ='==HUNTER by BLIND=='!A17 -> 45612 | B17: =SUM('==DUCK by BLIND=='!B17:AQ17) -> 107 | C17: =SUM('==HUNTER by BLIND=='!B17:AQ17) -> 42 | D17: =B17/C17 -> 2.547619
A18: ='==HUNTER by BLIND=='!A18 -> 45613 | B18: =SUM('==DUCK by BLIND=='!B18:AQ18) -> 107 | C18: =SUM('==HUNTER by BLIND=='!B18:AQ18) -> 46 | D18: =B18/C18 -> 2.326087
A19: ='==HUNTER by BLIND=='!A19 -> 45616 | B19: =SUM('==DUCK by BLIND=='!B19:AQ19) -> 61 | C19: =SUM('==HUNTER by BLIND=='!B19:AQ19) -> 28 | D19: =B19/C19 -> 2.1785714
A20: ='==HUNTER by BLIND=='!A20 -> 45619 | B20: =SUM('==DUCK by BLIND=='!B20:AQ20) -> 117 | C20: =SUM('==HUNTER by BLIND=='!B20:AQ20) -> 49 | D20: =B20/C20 -> 2.3877551
A21: ='==HUNTER by BLIND=='!A21 -> 45620 | B21: =SUM('==DUCK by BLIND=='!B21:AQ21) -> 61 | C21: =SUM('==HUNTER by BLIND=='!B21:AQ21) -> 30 | D21: =B21/C21 -> 2.0333333
A22: ='==HUNTER by BLIND=='!A22 -> 45623 | B22: =SUM('==DUCK by BLIND=='!B22:AQ22) -> 151 | C22: =SUM('==HUNTER by BLIND=='!B22:AQ22) -> 41 | D22: =B22/C22 -> 3.6829268
A23: ='==HUNTER by BLIND=='!A23 -> 45624 | B23: =SUM('==DUCK by BLIND=='!B23:AQ23) -> 92 | C23: =SUM('==HUNTER by BLIND=='!B23:AQ23) -> 34 | D23: =B23/C23 -> 2.7058824
A24: ='==HUNTER by BLIND=='!A24 -> 45626 | B24: =SUM('==DUCK by BLIND=='!B24:AQ24) -> 95 | C24: =SUM('==HUNTER by BLIND=='!B24:AQ24) -> 42 | D24: =B24/C24 -> 2.2619048
A25: ='==HUNTER by BLIND=='!A25 -> 45627 | B25: =SUM('==DUCK by BLIND=='!B25:AQ25) -> 109 | C25: =SUM('==HUNTER by BLIND=='!B25:AQ25) -> 46 | D25: =B25/C25 -> 2.3695652
A26: ='==HUNTER by BLIND=='!A26 -> 45630 | B26: =SUM('==DUCK by BLIND=='!B26:AQ26) -> 118 | C26: =SUM('==HUNTER by BLIND=='!B26:AQ26) -> 38 | D26: =B26/C26 -> 3.1052632
... A49: ='==HUNTER by BLIND=='!A49 -> 45689 | B49: =SUM('==DUCK by BLIND=='!B49:AQ49) -> 55 | C49: =SUM('==HUNTER by BLIND=='!B49:AQ49) -> 12 | D49: =B49/C49 -> 4.5833333
A50: TOTALS | B50: =SUM(B2:B49) -> 4973 | C50: =SUM(C2:C49) -> 1875 | D50: =B50/C50 -> 2.6522667
B52: Youth Hunt Day
B54: Veteran and Active Service Members

Sheet TOTAL GOOSE SUMM
A1: DATE | B1: # GEESE | C1: # HUNTERS | D1: GEESE/HUNTER
A2: ='==HUNTER by BLIND=='!A2 -> 45577 | B2: =SUM('==GOOSE by BLIND=='!B2:AQ2) -> 10 | C2: =SUM('==HUNTER by BLIND=='!B2:AQ2) -> 46 | D2: =B2/C2 -> 0.2173913
A3: ='==HUNTER by BLIND=='!A3 -> 45578 | B3: =SUM('==GOOSE by BLIND=='!B3:AQ3) -> 14 | C3: =SUM('==HUNTER by BLIND=='!B3:AQ3) -> 26 | D3: =B3/C3 -> 0.53846154
A4: ='==HUNTER by BLIND=='!A4 -> 45581 | B4: =SUM('==GOOSE by BLIND=='!B4:AQ4) -> 12 | C4: =SUM('==HUNTER by BLIND=='!B4:AQ4) -> 37 | D4: =B4/C4 -> 0.32432432
A5: ='==HUNTER by BLIND=='!A5 -> 45584 | B5: =SUM('==GOOSE by BLIND=='!B5:AQ5) -> 18 | C5: =SUM('==HUNTER by BLIND=='!B5:AQ5) -> 39 | D5: =B5/C5 -> 0.46153846
A6: ='==HUNTER by BLIND=='!A6 -> 45585 | B6: =SUM('==GOOSE by BLIND=='!B6:AQ6) -> 0 | C6: =SUM('==HUNTER by BLIND=='!B6:AQ6) -> 23 | D6: =B6/C6 -> 0
A7: ='==HUNTER by BLIND=='!A7 -> 45588 | B7: =SUM('==GOOSE by BLIND=='!B7:AQ7) -> 0 | C7: =SUM('==HUNTER by BLIND=='!B7:AQ7) -> 27 | D7: =B7/C7 -> 0
A8: ='==HUNTER by BLIND=='!A8 -> 45591 | B8: =SUM('==GOOSE by BLIND=='!B8:AQ8) -> 0 | C8: =SUM('==HUNTER by BLIND=='!B8:AQ8) -> 33 | D8: =B8/C8 -> 0
A9: ='==HUNTER by BLIND=='!A9 -> 45592 | B9: =SUM('==GOOSE by BLIND=='!B9:AQ9) -> 2 | C9: =SUM('==HUNTER by BLIND=='!B9:AQ9) -> 29 | D9: =B9/C9 -> 0.068965517
A10: ='==HUNTER by BLIND=='!A10 -> 45595 | B10: =SUM('==GOOSE by BLIND=='!B10:AQ10) -> 0 | C10: =SUM('==HUNTER by BLIND=='!B10:AQ10) -> 0 | D10: 0
A11: ='==HUNTER by BLIND=='!A11 -> 45598 | B11: =SUM('==GOOSE by BLIND=='!B11:AQ11) -> 1 | C11: =SUM('==HUNTER by BLIND=='!B11:AQ11) -> 28 | D11: =B11/C11 -> 0.035714286
A12: ='==HUNTER by BLIND=='!A12 -> 45599 | B12: =SUM('==GOOSE by BLIND=='!B12:AQ12) -> 0 | C12: =SUM('==HUNTER by BLIND=='!B12:AQ12) -> 30 | D12: =B12/C12 -> 0
A13: ='==HUNTER by BLIND=='!A13 -> 45602 | B13: =SUM('==GOOSE by BLIND=='!B13:AQ13) -> 5 | C13: =SUM('==HUNTER by BLIND=='!B13:AQ13) -> 22 | D13: =B13/C13 -> 0.22727273
A14: ='==HUNTER by BLIND=='!A14 -> 45605 | B14: =SUM('==GOOSE by BLIND=='!B14:AQ14) -> 1 | C14: =SUM('==HUNTER by BLIND=='!C14:AQ14) -> 8 | D14: =B14/C14 -> 0.125
A15: ='==HUNTER by BLIND=='!A15 -> 45607 | B15: =SUM('==GOOSE by BLIND=='!B15:AQ15) -> 3 | C15: =SUM('==HUNTER by BLIND=='!B15:AQ15) -> 21 | D15: =B15/C15 -> 0.14285714
A16: ='==HUNTER by BLIND=='!A16 -> 45609 | B16: =SUM('==GOOSE by BLIND=='!B16:AQ16) -> 3 | C16: =SUM('==HUNTER by BLIND=='!B16:AQ16) -> 27 | D16: =B16/C16 -> 0.11111111
A17: ='==HUNTER by BLIND=='!A17 -> 45612 | B17: =SUM('==GOOSE by BLIND=='!B17:AQ17) -> 1 | C17: =SUM('==HUNTER by BLIND=='!B17:AQ17) -> 42 | D17: =B17/C17 -> 0.023809524
A18: ='==HUNTER by BLIND=='!A18 -> 45613 | B18: =SUM('==GOOSE by BLIND=='!B18:AQ18) -> 5 | C18: =SUM('==HUNTER by BLIND=='!B18:AQ18) -> 46 | D18: =B18/C18 -> 0.10869565
A19: ='==HUNTER by BLIND=='!A19 -> 45616 | B19: =SUM('==GOOSE by BLIND=='!B19:AQ19) -> 3 | C19: =SUM('==HUNTER by BLIND=='!B19:AQ19) -> 28 | D19: =B19/C19 -> 0.10714286
A20: ='==HUNTER by BLIND=='!A20 -> 45619 | B20: =SUM('==GOOSE by BLIND=='!B20:AQ20) -> 14 | C20: =SUM('==HUNTER by BLIND=='!B20:AQ20) -> 49 | D20: =B20/C20 -> 0.28571429
A21: ='==HUNTER by BLIND=='!A21 -> 45620 | B21: =SUM('==GOOSE by BLIND=='!B21:AQ21) -> 2 | C21: =SUM('==HUNTER by BLIND=='!B21:AQ21) -> 30 | D21: =B21/C21 -> 0.066666667
A22: ='==HUNTER by BLIND=='!A22 -> 45623 | B22: =SUM('==GOOSE by BLIND=='!B22:AQ22) -> 1 | C22: =SUM('==HUNTER by BLIND=='!B22:AQ22) -> 41 | D22: =B22/C22 -> 0.024390244
A23: ='==HUNTER by BLIND=='!A23 -> 45624 | B23: =SUM('==GOOSE by BLIND=='!B23:AQ23) -> 3 | C23: =SUM('==HUNTER by BLIND=='!B23:AQ23) -> 34 | D23: =B23/C23 -> 0.088235294
A24: ='==HUNTER by BLIND=='!A24 -> 45626 | B24: =SUM('==GOOSE by BLIND=='!B24:AQ24) -> 1 | C24: =SUM('==HUNTER by BLIND=='!B24:AQ24) -> 42 | D24: =B24/C24 -> 0.023809524
A25: ='==HUNTER by BLIND=='!A25 -> 45627 | B25: =SUM('==GOOSE by BLIND=='!B25:AQ25) -> 0 | C25: =SUM('==HUNTER by BLIND=='!B25:AQ25) -> 46 | D25: =B25/C25 -> 0
A26: ='==HUNTER by BLIND=='!A26 -> 45630 | B26: =SUM('==GOOSE by BLIND=='!B26:AQ26) -> 1 | C26: =SUM('==HUNTER by BLIND=='!B26:AQ26) -> 38 | D26: =B26/C26 -> 0.026315789
... A49: ='==HUNTER by BLIND=='!A49 -> 45689 | B49: =SUM('==GOOSE by BLIND=='!B49:AQ49) -> 0 | C49: =SUM('==HUNTER by BLIND=='!B49:AQ49) -> 12 | D49: =B49/C49 -> 0
A50: TOTALS | B50: =SUM(B2:B49) -> 255 | C50: =SUM(C2:C49) -> 1875 | D50: =B50/C50 -> 0.136
B52: Youth Hunt Day
B54: Veteran and Active Service Members
B56: No Canda Goose Hunting

Sheet Blind Ranking Stats
A1: BLIND | B1: LOCATION | C1: SUBLOCATION | D1: TOTAL HUNTERS | E1: TOTAL DUCKS | F1: TOTAL GEESE | G1: DUCKS/HUNTER | H1: GEESE/HUNTER | I1: BIRDS/HUNTER
A2: B1 | B2: Slough | C2: East Slough | D2: ='==HUNTER by BLIND=='!B51 -> 5 | E2: ='==DUCK by BLIND=='!B51 -> 4 | F2: ='==GOOSE by BLIND=='!B51 -> 0 | G2: =E2/D2 -> 0.8 | H2: =F2/D2 -> 0 | I2: =(E2+F2)/D2 -> 0.8
A3: B2 | B3: Slough | C3: East Slough | D3: ='==HUNTER by BLIND=='!C51 -> 18 | E3: ='==DUCK by BLIND=='!C51 -> 21 | F3: ='==GOOSE by BLIND=='!C51 -> 1 | G3: =E3/D3 -> 1.1666667 | H3: =F3/D3 -> 0.055555556 | I3: =(E3+F3)/D3 -> 1.2222222
A4: B3 | B4: Slough | C4: West Slough | D4: ='==HUNTER by BLIND=='!D51 -> 34 | E4: ='==DUCK by BLIND=='!D51 -> 70 | F4: ='==GOOSE by BLIND=='!D51 -> 1 | G4: =E4/D4 -> 2.0588235 | H4: =F4/D4 -> 0.029411765 | I4: =(E4+F4)/D4 -> 2.0882353
A5: B4 | B5: Slough | C5: West Slough | D5: ='==HUNTER by BLIND=='!E51 -> 46 | E5: ='==DUCK by BLIND=='!E51 -> 67 | F5: ='==GOOSE by BLIND=='!E51 -> 2 | G5: =E5/D5 -> 1.4565217 | H5: =F5/D5 -> 0.043478261 | I5: =(E5+F5)/D5 -> 1.5
A6: B5 | B6: Slough | C6: West Slough | D6: ='==HUNTER by BLIND=='!F51 -> 9 | E6: ='==DUCK by BLIND=='!F51 -> 26 | F6: ='==GOOSE by BLIND=='!F51 -> 0 | G6: =E6/D6 -> 2.8888889 | H6: =F6/D6 -> 0 | I6: =(E6+F6)/D6 -> 2.8888889
A7: C1 | B7: Slough | C7: West Slough | D7: ='==HUNTER by BLIND=='!G51 -> 4 | E7: ='==DUCK by BLIND=='!G51 -> 0 | F7: ='==GOOSE by BLIND=='!G51 -> 0 | G7: =E7/D7 -> 0 | H7: =F7/D7 -> 0 | I7: =(E7+F7)/D7 -> 0
A8: C2 | B8: Slough | C8: West Slough | D8: ='==HUNTER by BLIND=='!H51 -> 7 | E8: ='==DUCK by BLIND=='!H51 -> 4 | F8: ='==GOOSE by BLIND=='!H51 -> 0 | G8: =E8/D8 -> 0.57142857 | H8: =F8/D8 -> 0 | I8: =(E8+F8)/D8 -> 0.57142857
A9: C3 | B9: Slough | C9: West Slough | D9: ='==HUNTER by BLIND=='!I51 -> 61 | E9: ='==DUCK by BLIND=='!I51 -> 64 | F9: ='==GOOSE by BLIND=='!I51 -> 3 | G9: =E9/D9 -> 1.0491803 | H9: =F9/D9 -> 0.049180328 | I9: =(E9+F9)/D9 -> 1.0983607
A10: C4 | B10: Slough | C10: West Slough | D10: ='==HUNTER by BLIND=='!J51 -> 24 | E10: ='==DUCK by BLIND=='!J51 -> 24 | F10: ='==GOOSE by BLIND=='!J51 -> 0 | G10: =E10/D10 -> 1 | H10: =F10/D10 -> 0 | I10: =(E10+F10)/D10 -> 1
A11: F1 | B11: Slough | C11: East Slough | D11: ='==HUNTER by BLIND=='!K51 -> 2 | E11: ='==DUCK by BLIND=='!K51 -> 1 | F11: ='==GOOSE by BLIND=='!K51 -> 0 | G11: =E11/D11 -> 0.5 | H11: =F11/D11 -> 0 | I11: =(E11+F11)/D11 -> 0.5
A12: F2 | B12: Slough | C12: East Slough | D12: ='==HUNTER by BLIND=='!L51 -> 0 | E12: ='==DUCK by BLIND=='!L51 -> 0 | F12: ='==GOOSE by BLIND=='!L51 -> 0 | G12: N/A | H12: N/A | I12: N/A
A13: H1 | B13: Slough | C13: West Slough | D13: ='==HUNTER by BLIND=='!M51 -> 19 | E13: ='==DUCK by BLIND=='!M51 -> 27 | F13: ='==GOOSE by BLIND=='!M51 -> 0 | G13: =E13/D13 -> 1.4210526 | H13: =F13/D13 -> 0 | I13: =(E13+F13)/D13 -> 1.4210526
A14: I1 | B14: Slough | C14: West Slough | D14: ='==HUNTER by BLIND=='!N51 -> 56 | E14: ='==DUCK by BLIND=='!N51 -> 89 | F14: ='==GOOSE by BLIND=='!N51 -> 1 | G14: =E14/D14 -> 1.5892857 | H14: =F14/D14 -> 0.017857143 | I14: =(E14+F14)/D14 -> 1.6071429
A15: J1 | B15: Slough | C15: West Slough | D15: ='==HUNTER by BLIND=='!O51 -> 10 | E15: ='==DUCK by BLIND=='!O51 -> 2 | F15: ='==GOOSE by BLIND=='!O51 -> 0 | G15: =E15/D15 -> 0.2 | H15: =F15/D15 -> 0 | I15: =(E15+F15)/D15 -> 0.2
A16: J2 | B16: Slough | C16: West Slough | D16: ='==HUNTER by BLIND=='!P51 -> 4 | E16: ='==DUCK by BLIND=='!P51 -> 4 | F16: ='==GOOSE by BLIND=='!P51 -> 0 | G16: =E16/D16 -> 1 | H16: =F16/D16 -> 0 | I16: =(E16+F16)/D16 -> 1
A17: 01 | B17: River | C17: North River | D17: ='==HUNTER by BLIND=='!Q51 -> 129 | E17: ='==DUCK by BLIND=='!Q51 -> 339 | F17: ='==GOOSE by BLIND=='!Q51 -> 5 | G17: =E17/D17 -> 2.627907 | H17: =F17/D17 -> 0.03875969 | I17: =(E17+F17)/D17 -> 2.6666667
A18: 02 | B18: River | C18: North River | D18: ='==HUNTER by BLIND=='!R51 -> 174 | E18: ='==DUCK by BLIND=='!R51 -> 694 | F18: ='==GOOSE by BLIND=='!R51 -> 8 | G18: =E18/D18 -> 3.9885057 | H18: =F18/D18 -> 0.045977011 | I18: =(E18+F18)/D18 -> 4.0344828
A19: 03 | B19: River | C19: North River | D19: ='==HUNTER by BLIND=='!S51 -> 201 | E19: ='==DUCK by BLIND=='!S51 -> 1156 | F19: ='==GOOSE by BLIND=='!S51 -> 21 | G19: =E19/D19 -> 5.7512438 | H19: =F19/D19 -> 0.10447761 | I19: =(E19+F19)/D19 -> 5.8557214
A20: 04 | B20: Pond | C20: North Pond | D20: ='==HUNTER by BLIND=='!T51 -> 8 | E20: ='==DUCK by BLIND=='!T51 -> 31 | F20: ='==GOOSE by BLIND=='!T51 -> 0 | G20: =E20/D20 -> 3.875 | H20: =F20/D20 -> 0 | I20: =(E20+F20)/D20 -> 3.875
A21: 12 | B21: River | C21: East River | D21: ='==HUNTER by BLIND=='!U51 -> 174 | E21: ='==DUCK by BLIND=='!U51 -> 716 | F21: ='==GOOSE by BLIND=='!U51 -> 13 | G21: =E21/D21 -> 4.1149425 | H21: =F21/D21 -> 0.074712644 | I21: =(E21+F21)/D21 -> 4.1896552
A22: 13 | B22: River | C22: East River | D22: ='==HUNTER by BLIND=='!V51 -> 54 | E22: ='==DUCK by BLIND=='!V51 -> 111 | F22: ='==GOOSE by BLIND=='!V51 -> 3 | G22: =E22/D22 -> 2.0555556 | H22: =F22/D22 -> 0.055555556 | I22: =(E22+F22)/D22 -> 2.1111111
A23: 14 | B23: River | C23: East River | D23: ='==HUNTER by BLIND=='!W51 -> 151 | E23: ='==DUCK by BLIND=='!W51 -> 459 | F23: ='==GOOSE by BLIND=='!W51 -> 17 | G23: =E23/D23 -> 3.0397351 | H23: =F23/D23 -> 0.11258278 | I23: =(E23+F23)/D23 -> 3.1523179
A24: 15 | B24: River | C24: East River | D24: ='==HUNTER by BLIND=='!X51 -> 143 | E24: ='==DUCK by BLIND=='!X51 -> 491 | F24: ='==GOOSE by BLIND=='!X51 -> 12 | G24: =E24/D24 -> 3.4335664 | H24: =F24/D24 -> 0.083916084 | I24: =(E24+F24)/D24 -> 3.5174825
A25: 16 | B25: River | C25: West River | D25: ='==HUNTER by BLIND=='!Y51 -> 81 | E25: ='==DUCK by BLIND=='!Y51 -> 107 | F25: ='==GOOSE by BLIND=='!Y51 -> 3 | G25: =E25/D25 -> 1.3209877 | H25: =F25/D25 -> 0.037037037 | I25: =(E25+F25)/D25 -> 1.3580247
A26: 17 | B26: River | C26: West River | D26: ='==HUNTER by BLIND=='!Z51 -> 26 | E26: ='==DUCK by BLIND=='!Z51 -> 0 | F26: ='==GOOSE by BLIND=='!Z51 -> 0 | G26: =E26/D26 -> 0 | H26: =F26/D26 -> 0 | I26: =(E26+F26)/D26 -> 0
A27: 18 | B27: River | C27: West River | D27: ='==HUNTER by BLIND=='!AA51 -> 41 | E27: ='==DUCK by BLIND=='!AA51 -> 23 | F27: ='==GOOSE by BLIND=='!AA51 -> 0 | G27: =E27/D27 -> 0.56097561 | H27: =F27/D27 -> 0 | I27: =(E27+F27)/D27 -> 0.56097561
A28: 19 | B28: River | C28: West River | D28: ='==HUNTER by BLIND=='!AB51 -> 84 | E28: ='==DUCK by BLIND=='!AB51 -> 160 | F28: ='==GOOSE by BLIND=='!AB51 -> 4 | G28: =E28/D28 -> 1.9047619 | H28: =F28/D28 -> 0.047619048 | I28: =(E28+F28)/D28 -> 1.952381
A29: 20 | B29: River | C29: West River | D29: ='==HUNTER by BLIND=='!AC51 -> 59 | E29: ='==DUCK by BLIND=='!AC51 -> 72 | F29: ='==GOOSE by BLIND=='!AC51 -> 12 | G29: =E29/D29 -> 1.220339 | H29: =F29/D29 -> 0.20338983 | I29: =(E29+F29)/D29 -> 1.4237288
A30: 21 | B30: River | C30: West River | D30: ='==HUNTER by BLIND=='!AD51 -> 78 | E30: ='==DUCK by BLIND=='!AD51 -> 118 | F30: ='==GOOSE by BLIND=='!AD51 -> 5 | G30: =E30/D30 -> 1.5128205 | H30: =F30/D30 -> 0.064102564 | I30: =(E30+F30)/D30 -> 1.5769231
A31: 22 | B31: River | C31: West River | D31: ='==HUNTER by BLIND=='!AE51 -> 57 | E31: ='==DUCK by BLIND=='!AE51 -> 85 | F31: ='==GOOSE by BLIND=='!AE51 -> 13 | G31: =E31/D31 -> 1.4912281 | H31: =F31/D31 -> 0.22807018 | I31: =(E31+F31)/D31 -> 1.7192982
A32: 40 | B32: Field | C32: C5 | D32: ='==HUNTER by BLIND=='!AF51 -> 1 | E32: ='==DUCK by BLIND=='!AF51 -> 0 | F32: ='==GOOSE by BLIND=='!AF51 -> 0 | G32: =E32/D32 -> 0 | H32: =F32/D32 -> 0 | I32: =(E32+F32)/D32 -> 0
A33: 41 | B33: Field | C33: C5 | D33: ='==HUNTER by BLIND=='!AG51 -> 0 | E33: ='==DUCK by BLIND=='!AG51 -> 0 | F33: ='==GOOSE by BLIND=='!AG51 -> 0 | G33: N/A | H33: N/A | I33: N/A
A34: 42 | B34: Field | C34: C3 | D34: ='==HUNTER by BLIND=='!AH51 -> 0 | E34: ='==DUCK by BLIND=='!AH51 -> 0 | F34: ='==GOOSE by BLIND=='!AH51 -> 0 | G34: N/A | H34: N/A | I34: N/A
A35: 43 | B35: Field | C35: C3 | D35: ='==HUNTER by BLIND=='!AI51 -> 0 | E35: ='==DUCK by BLIND=='!AI51 -> 0 | F35: ='==GOOSE by BLIND=='!AI51 -> 0 | G35: N/A | H35: N/A | I35: N/A
A36: 44 | B36: Field | C36: C2 | D36: ='==HUNTER by BLIND=='!AJ51 -> 4 | E36: ='==DUCK by BLIND=='!AJ51 -> 0 | F36: ='==GOOSE by BLIND=='!AJ51 -> 6 | G36: =E36/D36 -> 0 | H36: =F36/D36 -> 1.5 | I36: =(E36+F36)/D36 -> 1.5
A37: 45 | B37: Field | C37: C2 | D37: ='==HUNTER by BLIND=='!AK51 -> 0 | E37: ='==DUCK by BLIND=='!AK51 -> 0 | F37: ='==GOOSE by BLIND=='!AK51 -> 0 | G37: N/A | H37: N/A | I37: N/A
A38: 46 | B38: Field | C38: C1 | D38: ='==HUNTER by BLIND=='!AL51 -> 58 | E38: ='==DUCK by BLIND=='!AL51 -> 6 | F38: ='==GOOSE by BLIND=='!AL51 -> 86 | G38: =E38/D38 -> 0.10344828 | H38: =F38/D38 -> 1.4827586 | I38: =(E38+F38)/D38 -> 1.5862069
A39: 47 | B39: Field | C39: C1 | D39: ='==HUNTER by BLIND=='!AM51 -> 44 | E39: ='==DUCK by BLIND=='!AM51 -> 0 | F39: ='==GOOSE by BLIND=='!AM51 -> 39 | G39: =E39/D39 -> 0 | H39: =F39/D39 -> 0.88636364 | I39: =(E39+F39)/D39 -> 0.88636364
A40: 48 | B40: Field | C40: C4 | D40: ='==HUNTER by BLIND=='!AN51 -> 2 | E40: ='==DUCK by BLIND=='!AN51 -> 2 | F40: ='==GOOSE by BLIND=='!AN51 -> 0 | G40: =E40/D40 -> 1 | H40: =F40/D40 -> 0 | I40: =(E40+F40)/D40 -> 1
A41: 50 | B41: Field | C41: C4 | D41: ='==HUNTER by BLIND=='!AO51 -> 6 | E41: ='==DUCK by BLIND=='!AO51 -> 0 | F41: ='==GOOSE by BLIND=='!AO51 -> 0 | G41: =E41/D41 -> 0 | H41: =F41/D41 -> 0 | I41: =(E41+F41)/D41 -> 0
A42: 60 | B42: Desert | C42: East Desert | D42: ='==HUNTER by BLIND=='!AP51 -> 0 | E42: ='==DUCK by BLIND=='!AP51 -> 0 | F42: ='==GOOSE by BLIND=='!AP51 -> 0 | G42: N/A | H42: N/A | I42: N/A
A43: 61 | B43: Desert | C43: West Desert | D43: ='==HUNTER by BLIND=='!AQ51 -> 1 | E43: ='==DUCK by BLIND=='!AQ51 -> 0 | F43: ='==GOOSE by BLIND=='!AQ51 -> 0 | G43: =E43/D43 -> 0 | H43: =F43/D43 -> 0 | I43: =(E43+F43)/D43 -> 0
B44: Grand Totals | D44: =SUM(D2:D43) -> 1875 | E44: =SUM(E2:E43) -> 4973 | F44: =SUM(F2:F43) -> 255 | G44: =E44/D44 -> 2.6522667 | H44: =F44/D44 -> 0.136 | I44: =(E44+F44)/D44 -> 2.7882667

Sheet ==UPLAND SUMM==
A1: DATE | B1: HUNTERS | C1: PHEASANTS | D1: QUAIL | E1: Permits Not Returned
A2: ='==HUNTER by BLIND=='!A2 -> 45577 | B2: 2 | C2: 2 | D2: 1
A3: ='==HUNTER by BLIND=='!A3 -> 45578 | B3: 0
A4: ='==HUNTER by BLIND=='!A4 -> 45581 | B4: 7 | C4: 0 | D4: 1 | E4: 1
A5: ='==HUNTER by BLIND=='!A5 -> 45584 | B5: 0
A6: ='==HUNTER by BLIND=='!A6 -> 45585 | B6: 2 | C6: 0 | D6: 0 | E6: 2
A7: ='==HUNTER by BLIND=='!A7 -> 45588 | B7: 0 | E7: 1
A8: ='==HUNTER by BLIND=='!A8 -> 45591 | B8: 0 | E8: 3
A9: ='==HUNTER by BLIND=='!A9 -> 45592 | B9: 0
A10: ='==HUNTER by BLIND=='!A10 -> 45595 | B10: 3 | C10: 0 | D10: 0
A11: ='==HUNTER by BLIND=='!A11 -> 45598 | B11: 6 | C11: 1 | D11: 0 | E11: 1
A12: ='==HUNTER by BLIND=='!A12 -> 45599 | B12: 0 | E12: 2
A13: ='==HUNTER by BLIND=='!A13 -> 45602 | B13: 2 | C13: 2 | D13: 3
A14: ='==HUNTER by BLIND=='!A14 -> 45605 | B14: 0 | C14: 0 | D14: 0
A15: ='==HUNTER by BLIND=='!A15 -> 45607 | B15: 0 | C15: 0 | D15: 0
A16: ='==HUNTER by BLIND=='!A16 -> 45609 | B16: 0 | E16: 1
A17: ='==HUNTER by BLIND=='!A17 -> 45612 | B17: 0 | E17: 2
A18: ='==HUNTER by BLIND=='!A18 -> 45613 | B18: 1 | C18: 0 | D18: 0
A19: ='==HUNTER by BLIND=='!A19 -> 45616 | B19: 3 | C19: 1 | D19: 6 | E19: 1
A20: ='==HUNTER by BLIND=='!A20 -> 45619 | B20: 2 | C20: 0 | D20: 0
A21: ='==HUNTER by BLIND=='!A21 -> 45620 | B21: 0 | E21: 4
A22: ='==HUNTER by BLIND=='!A22 -> 45623 | B22: 0 | C22: 0 | D22: 0
A23: ='==HUNTER by BLIND=='!A23 -> 45624 | B23: 1 | C23: 0 | D23: 0
A24: ='==HUNTER by BLIND=='!A24 -> 45626 | B24: 1 | C24: 0 | D24: 0
A25: ='==HUNTER by BLIND=='!A25 -> 45627 | B25: 2 | C25: 1 | D25: 5
A26: ='==HUNTER by BLIND=='!A26 -> 45630 | B26: 4 | C26: 0 | D26: 6
A27: ='==HUNTER by BLIND=='!A27 -> 45633 | B27: 0 | C27: 0 | D27: 0
A28: ='==HUNTER by BLIND=='!A28 -> 45634 | B28: 2 | C28: 0 | D28: 1
A29: ='==HUNTER by BLIND=='!A29 -> 45637 | B29: 3 | C29: 0 | D29: 0 | E29: 1
A30: ='==HUNTER by BLIND=='!A30 -> 45640 | B30: 2 | C30: 0 | D30: 4
A31: ='==HUNTER by BLIND=='!A31 -> 45641 | B31: 1 | C31: 0 | D31: 0
A32: ='==HUNTER by BLIND=='!A32 -> 45644 | B32: 1 | E32: 1
A33: ='==HUNTER by BLIND=='!A33 -> 45647 | B33: 0 | C33: 0 | D33: 0
A34: ='==HUNTER by BLIND=='!A34 -> 45648 | B34: 3 | C34: 1 | D34: 3
A35: ='==HUNTER by BLIND=='!A35 -> 45654 | B35: 0 | C35: 0 | D35: 0
A36: TOTAL BIRDS | B36: 1 | C36: 1 | D36: 0 | E36: =SUM(E2:E35) -> 20
