Workbook

Sheet HUNTER by BLIND
A1: DATE | B1: 1 | C1: 2 | D1: 4 | E1: 5 | F1: 6 | G1: 7 | H1: 8 | I1: 9 | J1: 10 | K1: 11 | L1: 13 | M1: 15 | N1: 16 | O1: 17 | P1: 18 | Q1: 19 | R1: 20 | S1: 21 | T1: 22 | U1: 23 | V1: 24 | W1: 25 | X1: 26 | Y1: 27 | Z1: 28 | AA1: 29 | AB1: 30 | AC1: 31 | AD1: 32 | AE1: TOTAL
A2: 45941 | B2: 3 | C2: 4 | D2: 4 | E2: 3 | F2: 4 | G2: 4 | H2: 3 | I2: 3 | J2: 4 | K2: 2 | L2: 3 | M2: 3 | N2: 4 | O2: 3 | R2: 1 | AB2: 4 | AC2: 1 | AE2: =SUM(B2:AD2) -> 53
A3: 45942 | B3: 3 | C3: 3 | D3: 3 | E3: 4 | F3: 3 | G3: 4 | H3: 3 | J3: 4 | K3: 3 | L3: 1 | M3: 3 | O3: 2 | Q3: 3 | R3: 1 | S3: 2 | AE3: =SUM(B3:AD3) -> 42 | AH3: Not Hunted
A4: 45945 | D4: 3 | E4: 2 | F4: 1 | G4: 2 | H4: 2 | J4: 3 | K4: 3 | L4: 1 | M4: 3 | Q4: 2 | AB4: 1 | AE4: =SUM(B4:AD4) -> 23
A5: 45948 | B5: 3 | C5: 2 | D5: 2 | E5: 2 | F5: 2 | G5: 2 | H5: 3 | I5: 1 | K5: 3 | L5: 2 | M5: 2 | O5: 4 | P5: 1 | Q5: 2 | R5: 2 | S5: 2 | T5: 4 | Y5: 3 | AB5: 4 | AE5: =SUM(B5:AD5) -> 46 | AH5: Youth Hunt
A6: 45949 | B6: 1 | C6: 2 | D6: 3 | E6: 2 | F6: 2 | G6: 2 | H6: 1 | I6: 1 | J6: 3 | K6: 1 | M6: 3 | N6: 3 | O6: 3 | Q6: 2 | T6: 4 | AB6: 4 | AE6: =SUM(B6:AD6) -> 37
A7: 45952 | C7: 3 | D7: 2 | E7: 1 | F7: 3 | K7: 2 | L7: 2 | M7: 3 | Q7: 2 | S7: 1 | AE7: =SUM(B7:AD7) -> 19 | AH7: Veteran and Active Service Members
A8: 45955 | C8: 2 | D8: 2 | G8: 4 | H8: 4 | J8: 2 | K8: 2 | L8: 4 | M8: 3 | N8: 3 | O8: 3 | Q8: 2 | R8: 3 | S8: 4 | AE8: =SUM(B8:AD8) -> 38
A9: 45956 | B9: 1 | C9: 4 | D9: 4 | E9: 3 | F9: 3 | G9: 3 | H9: 2 | L9: 3 | M9: 1 | O9: 1 | Q9: 1 | U9: 1 | AE9: =SUM(B9:AD9) -> 27 | AH9: White Goose Hunt
A10: 45959 | B10: 3 | C10: 3 | D10: 4 | E10: 3 | F10: 3 | H10: 4 | K10: 2 | L10: 3 | M10: 3 | N10: 1 | Q10: 2 | R10: 1 | T10: 2 | AC10: 3 | AE10: =SUM(B10:AD10) -> 37
A11: 45962 | B11: 2 | C11: 3 | D11: 4 | E11: 2 | F11: 4 | G11: 2 | H11: 2 | J11: 3 | K11: 3 | L11: 3 | M11: 4 | N11: 4 | O11: 4 | Q11: 2 | R11: 2 | S11: 4 | T11: 2 | AE11: =SUM(B11:AD11) -> 50
A12: 45963 | C12: 3 | D12: 4 | F12: 2 | H12: 2 | J12: 2 | K12: 1 | M12: 2 | O12: 3 | Q12: 2 | R12: 3 | AE12: =SUM(B12:AD12) -> 24
A13: 45966 | C13: 4 | D13: 2 | E13: 2 | F13: 4 | I13: 4 | K13: 2 | L13: 3 | M13: 1 | Q13: 2 | R13: 3 | AE13: =SUM(B13:AD13) -> 27
A14: 45969 | AE14: =SUM(B14:AD14) -> 0
A15: 45970 | B15: 3 | C15: 3 | D15: 4 | E15: 2 | F15: 2 | K15: 3 | L15: 3 | Q15: 3 | R15: 2 | S15: 3 | AB15: 4 | AC15: 1 | AE15: =SUM(B15:AD15) -> 33
A16: 45972 | B16: 2 | C16: 4 | D16: 4 | E16: 3 | F16: 3 | G16: 2 | H16: 3 | K16: 2 | L16: 4 | Q16: 2 | S16: 4 | T16: 2 | AE16: =SUM(B16:AD16) -> 35
A17: 45976 | C17: 1 | D17: 2 | E17: 1 | F17: 3 | H17: 4 | I17: 4 | J17: 4 | K17: 3 | L17: 4 | M17: 4 | N17: 3 | O17: 1 | Q17: 2 | S17: 4 | Z17: 2 | AA17: 2 | AE17: =SUM(B17:AD17) -> 44
A18: 45977 | C18: 3 | D18: 3 | E18: 5 | F18: 4 | H18: 1 | J18: 2 | K18: 4 | L18: 4 | U18: 2 | AE18: =SUM(B18:AD18) -> 28
A19: 45980 | B19: 3 | C19: 3 | D19: 3 | E19: 2 | F19: 3 | H19: 3 | I19: 1 | J19: 3 | K19: 1 | L19: 3 | M19: 1 | Q19: 1 | R19: 2 | S19: 2 | T19: 2 | AE19: =SUM(B19:AD19) -> 33
A20: 45983 | B20: 3 | C20: 2 | D20: 7 | E20: 1 | F20: 2 | G20: 4 | H20: 4 | J20: 2 | K20: 2 | L20: 4 | P20: 4 | S20: 2 | T20: 2 | AE20: =SUM(B20:AD20) -> 39
A21: 45984 | B21: 4 | C21: 3 | D21: 2 | E21: 3 | F21: 2 | H21: 2 | J21: 2 | K21: 3 | L21: 3 | M21: 3 | R21: 2 | S21: 3 | AE21: =SUM(B21:AD21) -> 32
A22: 45987 | B22: 3 | C22: 4 | D22: 4 | E22: 2 | F22: 3 | G22: 2 | H22: 4 | J22: 2 | K22: 3 | L22: 3 | M22: 3 | S22: 2 | T22: 1 | U22: 2 | AE22: =SUM(B22:AD22) -> 38
A23: 45988 | B23: 2 | C23: 2 | D23: 4 | E23: 4 | F23: 4 | J23: 3 | K23: 4 | L23: 2 | M23: 3 | N23: 3 | Q23: 2 | R23: 4 | S23: 3 | AE23: =SUM(B23:AD23) -> 40
A24: 45990 | B24: 2 | C24: 4 | D24: 4 | E24: 4 | F24: 4 | G24: 3 | J24: 3 | K24: 3 | L24: 2 | M24: 3 | Q24: 2 | S24: 4 | T24: 2 | U24: 3 | AB24: 1 | AE24: =SUM(B24:AD24) -> 44
A25: 45991 | B25: 2 | C25: 4 | D25: 3 | E25: 4 | F25: 7 | H25: 3 | J25: 3 | L25: 2 | M25: 2 | AC25: 3 | AE25: =SUM(B25:AD25) -> 33
A26: 45994 | B26: 1 | C26: 1 | D26: 3 | E26: 3 | F26: 3 | G26: 3 | H26: 1 | I26: 2 | J26: 2 | K26: 3 | L26: 4 | M26: 1 | Q26: 3 | R26: 1 | S26: 2 | AE26: =SUM(B26:AD26) -> 33
A27: 45997 | B27: 1 | C27: 2 | D27: 4 | E27: 3 | F27: 3 | G27: 3 | H27: 2 | I27: 1 | J27: 2 | K27: 3 | L27: 3 | N27: 2 | O27: 2 | Q27: 4 | R27: 3 | S27: 4 | T27: 4 | U27: 4 | AE27: =SUM(B27:AD27) -> 50
A28: 45998 | B28: 1 | C28: 4 | D28: 4 | E28: 3 | F28: 3 | G28: 2 | H28: 3 | J28: 1 | K28: 3 | L28: 2 | O28: 2 | Q28: 3 | R28: 3 | S28: 4 | AE28: =SUM(B28:AD28) -> 38
A29: 46001 | C29: 3 | D29: 3 | E29: 4 | F29: 2 | G29: 1 | H29: 2 | J29: 2 | K29: 3 | L29: 5 | O29: 4 | Q29: 2 | S29: 2 | AE29: =SUM(B29:AD29) -> 33
A30: 46004 | B30: 4 | C30: 2 | D30: 4 | E30: 4 | F30: 3 | G30: 2 | H30: 4 | I30: 2 | J30: 3 | K30: 4 | L30: 4 | M30: 2 | O30: 2 | P30: 4 | Q30: 3 | R30: 3 | S30: 3 | T30: 2 | AB30: 2 | AC30: 1 | AD30: 4 | AE30: =SUM(B30:AD30) -> 62
A31: 46005 | B31: 4 | C31: 2 | D31: 2 | E31: 4 | F31: 3 | G31: 4 | H31: 5 | K31: 3 | L31: 3 | N31: 1 | Q31: 3 | S31: 3 | T31: 2 | AB31: 2 | AE31: =SUM(B31:AD31) -> 41
A32: 46008 | B32: 2 | C32: 4 | D32: 2 | E32: 1 | F32: 4 | G32: 2 | H32: 2 | I32: 1 | J32: 2 | K32: 3 | L32: 4 | M32: 2 | N32: 2 | O32: 2 | Q32: 2 | S32: 6 | T32: 3 | AE32: =SUM(B32:AD32) -> 44
A33: 46011 | B33: 7 | C33: 4 | D33: 2 | E33: 6 | F33: 3 | G33: 3 | H33: 3 | I33: 4 | J33: 2 | K33: 4 | L33: 2 | M33: 2 | N33: 2 | O33: 2 | Q33: 2 | R33: 3 | S33: 4 | T33: 3 | Y33: 3 | Z33: 3 | AE33: =SUM(B33:AD33) -> 64
A34: 46012 | B34: 6 | C34: 2 | D34: 3 | E34: 2 | F34: 3 | G34: 2 | H34: 4 | J34: 2 | K34: 4 | L34: 4 | M34: 2 | N34: 5 | R34: 4 | S34: 2 | X34: 1 | AE34: =SUM(B34:AD34) -> 46
A35: 46015 | B35: 2 | C35: 3 | D35: 4 | E35: 3 | F35: 6 | G35: 2 | H35: 2 | I35: 2 | J35: 3 | K35: 2 | L35: 4 | M35: 4 | N35: 4 | O35: 4 | Q35: 3 | R35: 4 | S35: 4 | T35: 4 | U35: 2 | AD35: 4 | AE35: =SUM(B35:AD35) -> 66
A36: 46018 | B36: 2 | C36: 3 | D36: 4 | E36: 4 | F36: 6 | G36: 4 | H36: 2 | I36: 3 | J36: 3 | K36: 6 | L36: 4 | M36: 4 | N36: 2 | O36: 3 | Q36: 2 | R36: 4 | S36: 5 | T36: 3 | AD36: 4 | AE36: =SUM(B36:AD36) -> 68
A37: 46019 | C37: 2 | D37: 6 | E37: 2 | F37: 3 | G37: 1 | H37: 4 | K37: 3 | L37: 2 | M37: 3 | R37: 2 | S37: 4 | AE37: =SUM(B37:AD37) -> 32
A38: 46022 | C38: 2 | D38: 3 | E38: 3 | F38: 4 | G38: 4 | H38: 5 | I38: 3 | J38: 3 | K38: 4 | L38: 4 | M38: 4 | N38: 2 | O38: 2 | Q38: 2 | R38: 2 | S38: 3 | T38: 5 | AE38: =SUM(B38:AD38) -> 55
A39: 46023 | C39: 2 | D39: 4 | F39: 3 | K39: 1 | L39: 2 | M39: 3 | Q39: 3 | R39: 2 | S39: 4 | T39: 3 | AE39: =SUM(B39:AD39) -> 27
A40: 46025 | B40: 2 | C40: 3 | D40: 5 | E40: 3 | F40: 4 | G40: 4 | H40: 5 | I40: 3 | K40: 3 | L40: 4 | M40: 4 | N40: 3 | O40: 3 | Q40: 5 | R40: 3 | S40: 4 | AE40: =SUM(B40:AD40) -> 58
A41: 46026 | B41: 1 | C41: 2 | D41: 3 | E41: 2 | F41: 4 | G41: 4 | H41: 3 | J41: 3 | K41: 4 | L41: 4 | M41: 3 | N41: 1 | S41: 4 | AE41: =SUM(B41:AD41) -> 38
A42: 46029 | B42: 1 | C42: 1 | D42: 3 | E42: 5 | F42: 5 | G42: 3 | H42: 2 | I42: 2 | J42: 2 | K42: 4 | L42: 1 | M42: 2 | N42: 3 | Q42: 2 | S42: 2 | AB42: 4 | AE42: =SUM(B42:AD42) -> 42
A43: 46032 | B43: 5 | C43: 4 | D43: 3 | E43: 4 | I43: 1 | J43: 3 | K43: 3 | L43: 4 | M43: 3 | Q43: 3 | S43: 3 | T43: 4 | AB43: 4 | AE43: =SUM(B43:AD43) -> 44
A44: 46033 | C44: 2 | D44: 7 | E44: 4 | F44: 3 | G44: 3 | J44: 2 | K44: 3 | Q44: 4 | S44: 2 | T44: 2 | AA44: 4 | AC44: 1 | AE44: =SUM(B44:AD44) -> 37
A45: 46036 | C45: 2 | D45: 2 | E45: 2 | F45: 1 | G45: 2 | J45: 4 | L45: 4 | M45: 1 | Q45: 2 | S45: 4 | T45: 1 | AC45: 1 | AE45: =SUM(B45:AD45) -> 26
A46: 46039 | B46: 2 | C46: 3 | D46: 4 | E46: 2 | F46: 4 | G46: 3 | H46: 3 | I46: 2 | J46: 4 | K46: 3 | L46: 4 | M46: 3 | O46: 2 | R46: 3 | S46: 3 | T46: 1 | AE46: =SUM(B46:AD46) -> 46
A47: 46040 | C47: 2 | D47: 4 | E47: 2 | F47: 4 | H47: 2 | K47: 2 | S47: 1 | AE47: =SUM(B47:AD47) -> 17
A48: 46043 | B48: 1 | C48: 6 | D48: 6 | E48: 4 | F48: 4 | G48: 2 | K48: 1 | L48: 2 | M48: 2 | O48: 1 | S48: 2 | AE48: =SUM(B48:AD48) -> 31
A49: 46046 | C49: 2 | D49: 3 | E49: 3 | F49: 4 | G49: 3 | K49: 3 | M49: 2 | Q49: 2 | R49: 4 | S49: 4 | AC49: 1 | AE49: =SUM(B49:AD49) -> 31
A50: 46047 | D50: 3 | F50: 2 | K50: 3 | N50: 1 | R50: 2 | S50: 4 | AE50: =SUM(B50:AD50) -> 15
A51: 46053 | B51: 2 | C51: 1 | E51: 1 | S51: 2 | AA51: 2 | AE51: =SUM(B51:AD51) -> 8
A52: 46074 | Y52: 3 | Z52: 3 | AE52: =SUM(B52:AD52) -> 6
A53: 46075 | AB53: 3 | AC53: 3 | AE53: =SUM(B53:AD53) -> 6
A54: 46078 | F54: 1 | AB54: 3 | AC54: 3 | AE54: =SUM(B54:AD54) -> 7
A55: 46081 | Y55: 2 | AB55: 4 | AC55: 3 | AE55: =SUM(B55:AD55) -> 9
A56: 46082 | X56: 3 | Y56: 2 | Z56: 3 | AB56: 4 | AC56: 3 | AE56: =SUM(B56:AD56) -> 15
A57: 46085 | AB57: 1 | AE57: =SUM(B57:AD57) -> 1
A58: 46088 | Y58: 3 | Z58: 4 | AC58: 2 | AE58: =SUM(B58:AD58) -> 9
A59: 46089 | Y59: 4 | Z59: 3 | AE59: =SUM(B59:AD59) -> 7
A60: BLIND # | B60: 1 | C60: 2 | D60: 4 | E60: 5 | F60: 6 | G60: 7 | H60: 8 | I60: 9 | J60: 10 | K60: 11 | L60: 13 | M60: 15 | N60: 16 | O60: 17 | P60: 18 | Q60: 19 | R60: 20 | S60: 21 | T60: 22 | U60: 23 | V60: 24 | W60: 25 | X60: 26 | Y60: 27 | Z60: 28 | AA60: 29 | AB60: 30 | AC60: 31 | AD60: 32
A61: TOTAL | B61: =SUM(B2:B59) -> 84 | C61: =SUM(C2:C59) -> 130 | D61: =SUM(D2:D59) -> 168 | E61: =SUM(E2:E59) -> 129 | F61: =SUM(F2:F59) -> 153 | G61: =SUM(G2:G59) -> 91 | H61: =SUM(H2:H59) -> 104 | I61: =SUM(I2:I59) -> 40 | ... AD61: =SUM(AD2:AD59) -> 12 | AE61: =SUM(B61:AD61) -> 1934

Sheet DUCK by BLIND
A1: DATE | B1: 1 | C1: 2 | D1: 4 | E1: 5 | F1: 6 | G1: 7 | H1: 8 | I1: 9 | J1: 10 | K1: 11 | L1: 13 | M1: 15 | N1: 16 | O1: 17 | P1: 18 | Q1: 19 | R1: 20 | S1: 21 | T1: 22 | U1: 23 | V1: 24 | W1: 25 | X1: 26 | Y1: 27 | Z1: 28 | AA1: 29 | AB1: 30 | AC1: 31 | AD1: 32 | AE1: TOTAL
A2: ='HUNTER by BLIND'!A2 -> 45941 | B2: 7 | C2: 28 | D2: 13 | E2: 6 | F2: 8 | G2: 14 | H2: 12 | I2: 6 | J2: 28 | K2: 14 | L2: 17 | M2: 19 | N2: 9 | O2: 7 | R2: 7 | AB2: 1 | AC2: 0 | AE2: =SUM(B2:AD2) -> 196
A3: ='HUNTER by BLIND'!A3 -> 45942 | B3: 2 | C3: 8 | D3: 11 | E3: 14 | F3: 7 | G3: 15 | H3: 14 | J3: 28 | K3: 17 | L3: 3 | M3: 9 | O3: 14 | Q3: 14 | R3: 1 | S3: 5 | AE3: =SUM(B3:AD3) -> 162 | AH3: Not Hunted
A4: ='HUNTER by BLIND'!A4 -> 45945 | D4: 8 | E4: 12 | F4: 7 | G4: 1 | H4: 4 | J4: 17 | K4: 14 | L4: 7 | M4: 13 | Q4: 14 | AB4: 1 | AE4: =SUM(B4:AD4) -> 98
A5: ='HUNTER by BLIND'!A5 -> 45948 | B5: 7 | C5: 5 | D5: 3 | E5: 9 | F5: 6 | G5: 1 | H5: 2 | I5: 1 | K5: 3 | L5: 11 | M5: 5 | O5: 4 | P5: 2 | Q5: 4 | R5: 14 | S5: 4 | T5: 13 | Y5: 0 | AB5: 1 | AE5: =SUM(B5:AD5) -> 95 | AH5: Youth Hunt
A6: ='HUNTER by BLIND'!A6 -> 45949 | B6: 0 | C6: 11 | D6: 9 | E6: 0 | F6: 10 | G6: 1 | H6: 0 | I6: 1 | J6: 6 | K6: 1 | M6: 0 | N6: 7 | O6: 14 | Q6: 7 | T6: 9 | AB6: 0 | AE6: =SUM(B6:AD6) -> 76
A7: ='HUNTER by BLIND'!A7 -> 45952 | C7: 2 | D7: 11 | E7: 1 | F7: 12 | K7: 13 | L7: 5 | M7: 3 | Q7: 6 | S7: 3 | AE7: =SUM(B7:AD7) -> 56 | AH7: Veteran and Active Service Members
A8: ='HUNTER by BLIND'!A8 -> 45955 | C8: 4 | D8: 2 | G8: 3 | H8: 13 | J8: 7 | K8: 2 | L8: 13 | M8: 10 | N8: 2 | O8: 10 | Q8: 1 | R8: 9 | S8: 9 | AE8: =SUM(B8:AD8) -> 85
A9: ='HUNTER by BLIND'!A9 -> 45956 | B9: 3 | C9: 1 | D9: 4 | E9: 0 | F9: 16 | G9: 0 | H9: 2 | L9: 2 | M9: 1 | O9: 5 | Q9: 2 | U9: 1 | AE9: =SUM(B9:AD9) -> 37 | AH9: White Goose Hunt
A10: ='HUNTER by BLIND'!A10 -> 45959 | B10: 6 | C10: 9 | D10: 28 | E10: 6 | F10: 4 | H10: 5 | K10: 7 | L10: 3 | M10: 2 | N10: 1 | Q10: 9 | R10: 1 | T10: 1 | AC10: 0 | AE10: =SUM(B10:AD10) -> 82
A11: ='HUNTER by BLIND'!A11 -> 45962 | B11: 10 | C11: 6 | D11: 2 | E11: 13 | F11: 17 | G11: 2 | H11: 4 | J11: 11 | K11: 7 | L11: 10 | M11: 5 | N11: 0 | O11: 1 | Q11: 3 | R11: 3 | S11: 6 | T11: 6 | AE11: =SUM(B11:AD11) -> 106
A12: ='HUNTER by BLIND'!A12 -> 45963 | C12: 4 | D12: 21 | F12: 0 | H12: 0 | J12: 2 | K12: 0 | M12: 0 | O12: 0 | Q12: 1 | R12: 7 | AE12: =SUM(B12:AD12) -> 35
A13: ='HUNTER by BLIND'!A13 -> 45966 | C13: 1 | D13: 2 | E13: 6 | F13: 23 | I13: 4 | K13: 12 | L13: 19 | M13: 3 | Q13: 8 | R13: 9 | AE13: =SUM(B13:AD13) -> 87
A14: ='HUNTER by BLIND'!A14 -> 45969 | AE14: =SUM(B14:AD14) -> 0
A15: ='HUNTER by BLIND'!A15 -> 45970 | D15: 1 | E15: 3 | F15: 6 | K15: 7 | L15: 11 | M15: 3 | R15: 6 | S15: 2 | AE15: =SUM(B15:AD15) -> 39
A16: ='HUNTER by BLIND'!A16 -> 45972 | B16: 7 | C16: 3 | D16: 3 | E16: 1 | F16: 15 | G16: 1 | H16: 7 | K16: 5 | L16: 8 | Q16: 0 | S16: 3 | T16: 3 | AE16: =SUM(B16:AD16) -> 56
A17: ='HUNTER by BLIND'!A17 -> 45976 | C17: 7 | D17: 7 | E17: 3 | F17: 21 | H17: 4 | I17: 6 | J17: 28 | K17: 2 | L17: 16 | M17: 4 | N17: 0 | O17: 2 | Q17: 6 | S17: 5 | Z17: 3 | AA17: 0 | AE17: =SUM(B17:AD17) -> 114
A18: ='HUNTER by BLIND'!A18 -> 45977 | C18: 1 | D18: 11 | E18: 8 | F18: 14 | H18: 1 | J18: 11 | K18: 11 | L18: 15 | U18: 0 | AE18: =SUM(B18:AD18) -> 72
A19: ='HUNTER by BLIND'!A19 -> 45980 | B19: 6 | C19: 4 | D19: 2 | E19: 0 | F19: 21 | H19: 0 | I19: 5 | J19: 15 | K19: 5 | L19: 1 | M19: 1 | Q19: 1 | R19: 4 | S19: 9 | T19: 4 | AE19: =SUM(B19:AD19) -> 78
A20: ='HUNTER by BLIND'!A20 -> 45983 | B20: 21 | C20: 10 | D20: 25 | E20: 1 | F20: 14 | G20: 5 | H20: 5 | J20: 14 | K20: 12 | L20: 19 | P20: 21 | S20: 6 | T20: 7 | AE20: =SUM(B20:AD20) -> 160
A21: ='HUNTER by BLIND'!A21 -> 45984 | B21: 14 | C21: 5 | D21: 3 | E21: 4 | F21: 7 | H21: 9 | J21: 8 | K21: 3 | L21: 5 | M21: 1 | R21: 6 | S21: 8 | AE21: =SUM(B21:AD21) -> 73
A22: ='HUNTER by BLIND'!A22 -> 45987 | B22: 14 | C22: 2 | D22: 9 | E22: 6 | F22: 17 | G22: 6 | H22: 3 | J22: 14 | K22: 5 | L22: 13 | M22: 8 | S22: 3 | T22: 1 | U22: 0 | AE22: =SUM(B22:AD22) -> 101
A23: ='HUNTER by BLIND'!A23 -> 45988 | B23: 8 | C23: 2 | D23: 5 | E23: 21 | F23: 3 | J23: 6 | K23: 12 | L23: 6 | M23: 6 | N23: 0 | Q23: 3 | R23: 5 | S23: 2 | AE23: =SUM(B23:AD23) -> 79
A24: ='HUNTER by BLIND'!A24 -> 45990 | B24: 1 | C24: 1 | D24: 28 | E24: 6 | F24: 28 | G24: 21 | J24: 21 | K24: 15 | L24: 13 | M24: 7 | Q24: 2 | S24: 2 | T24: 4 | U24: 0 | AB24: 5 | AE24: =SUM(B24:AD24) -> 154
A25: ='HUNTER by BLIND'!A25 -> 45991 | B25: 10 | C25: 2 | D25: 21 | E25: 25 | F25: 10 | H25: 8 | J25: 1 | L25: 3 | M25: 8 | AC25: 1 | AE25: =SUM(B25:AD25) -> 89
A26: ='HUNTER by BLIND'!A26 -> 45994 | B26: 4 | C26: 5 | D26: 21 | E26: 21 | F26: 11 | G26: 8 | H26: 11 | I26: 6 | J26: 14 | K26: 21 | L26: 9 | M26: 6 | Q26: 12 | R26: 2 | S26: 14 | AE26: =SUM(B26:AD26) -> 165
A27: ='HUNTER by BLIND'!A27 -> 45997 | B27: 6 | C27: 7 | D27: 9 | E27: 19 | F27: 21 | G27: 4 | H27: 3 | I27: 7 | J27: 14 | K27: 21 | L27: 13 | N27: 10 | O27: 14 | Q27: 28 | R27: 15 | S27: 28 | T27: 10 | U27: 23 | AE27: =SUM(B27:AD27) -> 252
A28: ='HUNTER by BLIND'!A28 -> 45998 | B28: 4 | C28: 8 | D28: 19 | E28: 3 | F28: 18 | G28: 5 | H28: 5 | J28: 7 | K28: 6 | L28: 4 | O28: 9 | Q28: 7 | R28: 7 | S28: 3 | AE28: =SUM(B28:AD28) -> 105
A29: ='HUNTER by BLIND'!A29 -> 46001 | C29: 13 | D29: 6 | E29: 17 | F29: 14 | G29: 3 | H29: 14 | J29: 14 | K29: 21 | L29: 35 | O29: 6 | Q29: 9 | S29: 8 | AE29: =SUM(B29:AD29) -> 160
A30: ='HUNTER by BLIND'!A30 -> 46004 | B30: 16 | C30: 2 | D30: 10 | E30: 9 | F30: 20 | G30: 11 | H30: 19 | I30: 7 | J30: 8 | K30: 22 | L30: 8 | M30: 5 | O30: 1 | P30: 1 | Q30: 9 | R30: 5 | S30: 21 | T30: 8 | AB30: 0 | AC30: 0 | AD30: 2 | AE30: =SUM(B30:AD30) -> 184
A31: ='HUNTER by BLIND'!A31 -> 46005 | B31: 7 | C31: 1 | D31: 5 | E31: 7 | F31: 9 | G31: 10 | H31: 12 | K31: 4 | L31: 15 | N31: 0 | Q31: 1 | S31: 2 | T31: 4 | AB31: 0 | AE31: =SUM(B31:AD31) -> 77
A32: ='HUNTER by BLIND'!A32 -> 46008 | B32: 14 | C32: 8 | D32: 14 | E32: 0 | F32: 24 | G32: 7 | H32: 14 | I32: 4 | J32: 6 | K32: 21 | L32: 16 | M32: 13 | N32: 6 | O32: 14 | Q32: 14 | S32: 27 | T32: 21 | AE32: =SUM(B32:AD32) -> 223
A33: ='HUNTER by BLIND'!A33 -> 46011 | B33: 23 | C33: 8 | D33: 9 | E33: 36 | F33: 11 | G33: 21 | H33: 21 | I33: 9 | J33: 14 | K33: 23 | L33: 14 | M33: 4 | N33: 7 | O33: 4 | Q33: 5 | R33: 15 | S33: 17 | T33: 12 | Y33: 0 | Z33: 0 | AE33: =SUM(B33:AD33) -> 253
A34: ='HUNTER by BLIND'!A34 -> 46012 | B34: 2 | C34: 1 | D34: 5 | E34: 5 | F34: 13 | G34: 7 | H34: 5 | J34: 11 | K34: 8 | L34: 6 | M34: 4 | N34: 10 | R34: 5 | S34: 1 | X34: 0 | AE34: =SUM(B34:AD34) -> 83
A35: ='HUNTER by BLIND'!A35 -> 46015 | B35: 3 | C35: 12 | D35: 28 | E35: 4 | F35: 31 | G35: 12 | H35: 13 | I35: 13 | J35: 2 | K35: 14 | L35: 16 | M35: 2 | N35: 8 | O35: 2 | Q35: 2 | R35: 10 | S35: 12 | T35: 2 | U35: 1 | AD35: 2 | AE35: =SUM(B35:AD35) -> 189
A36: ='HUNTER by BLIND'!A36 -> 46018 | B36: 1 | C36: 2 | D36: 22 | E36: 12 | F36: 25 | G36: 17 | H36: 2 | I36: 21 | J36: 21 | K36: 21 | L36: 11 | M36: 15 | N36: 1 | O36: 11 | Q36: 6 | R36: 6 | S36: 33 | T36: 11 | AD36: 9 | AE36: =SUM(B36:AD36) -> 247
A37: ='HUNTER by BLIND'!A37 -> 46019 | C37: 1 | D37: 16 | E37: 0 | F37: 16 | G37: 0 | H37: 7 | K37: 6 | L37: 7 | M37: 7 | Q37: 4 | R37: 18 | AE37: =SUM(B37:AD37) -> 82
A38: ='HUNTER by BLIND'!A38 -> 46022 | C38: 6 | D38: 0 | E38: 0 | F38: 10 | G38: 5 | H38: 4 | I38: 7 | J38: 3 | K38: 6 | L38: 10 | M38: 14 | N38: 0 | O38: 3 | Q38: 9 | R38: 8 | S38: 5 | T38: 16 | AE38: =SUM(B38:AD38) -> 106
A39: ='HUNTER by BLIND'!A39 -> 46023 | C39: 14 | D39: 21 | F39: 21 | K39: 6 | L39: 14 | M39: 21 | Q39: 2 | R39: 6 | S39: 27 | T39: 6 | AE39: =SUM(B39:AD39) -> 138
A40: ='HUNTER by BLIND'!A40 -> 46025 | B40: 3 | C40: 11 | D40: 4 | E40: 9 | F40: 4 | G40: 4 | H40: 18 | I40: 11 | K40: 1 | L40: 21 | M40: 3 | N40: 4 | O40: 2 | Q40: 3 | R40: 13 | S40: 7 | Y40: 0 | Z40: 0 | AC40: 0 | AE40: =SUM(B40:AD40) -> 118
A41: ='HUNTER by BLIND'!A41 -> 46026 | B41: 0 | C41: 5 | D41: 11 | E41: 6 | F41: 21 | G41: 5 | H41: 3 | J41: 21 | K41: 5 | L41: 17 | M41: 8 | N41: 4 | S41: 10 | AE41: =SUM(B41:AD41) -> 116
A42: ='HUNTER by BLIND'!A42 -> 46029 | B42: 7 | C42: 4 | D42: 21 | E42: 5 | F42: 13 | G42: 6 | H42: 5 | I42: 4 | J42: 14 | K42: 13 | L42: 2 | M42: 6 | N42: 5 | Q42: 2 | S42: 2 | AB42: 1 | AE42: =SUM(B42:AD42) -> 110
A43: ='HUNTER by BLIND'!A43 -> 46032 | C43: 11 | D43: 20 | E43: 5 | F43: 18 | I43: 4 | J43: 12 | K43: 14 | L43: 8 | M43: 8 | Q43: 1 | S43: 13 | T43: 0 | AB43: 1 | AE43: =SUM(B43:AD43) -> 115
A44: ='HUNTER by BLIND'!A44 -> 46033 | C44: 0 | D44: 16 | E44: 10 | F44: 13 | G44: 17 | J44: 6 | K44: 7 | Q44: 1 | S44: 1 | T44: 2 | AA44: 0 | AC44: 4 | AE44: =SUM(B44:AD44) -> 77
A45: ='HUNTER by BLIND'!A45 -> 46036 | C45: 3 | D45: 5 | E45: 10 | F45: 7 | G45: 2 | J45: 21 | L45: 6 | M45: 7 | Q45: 3 | S45: 4 | T45: 0 | AC45: 0 | AE45: =SUM(B45:AD45) -> 68
A46: ='HUNTER by BLIND'!A46 -> 46039 | B46: 3 | C46: 2 | D46: 5 | E46: 7 | F46: 2 | G46: 0 | H46: 2 | I46: 2 | J46: 3 | K46: 6 | L46: 11 | M46: 0 | O46: 6 | R46: 0 | S46: 12 | T46: 0 | AE46: =SUM(B46:AD46) -> 61
A47: ='HUNTER by BLIND'!A47 -> 46040 | C47: 0 | D47: 4 | E47: 0 | F47: 5 | H47: 2 | K47: 0 | S47: 1 | AE47: =SUM(B47:AD47) -> 12
A48: ='HUNTER by BLIND'!A48 -> 46043 | C48: 2 | D48: 2 | E48: 1 | F48: 4 | G48: 0 | H48: 1 | K48: 2 | L48: 3 | M48: 0 | O48: 0 | S48: 7 | AE48: =SUM(B48:AD48) -> 22
A49: ='HUNTER by BLIND'!A49 -> 46046 | C49: 3 | D49: 21 | E49: 5 | F49: 2 | G49: 7 | K49: 8 | M49: 2 | Q49: 5 | R49: 21 | S49: 16 | AC49: 0 | AE49: =SUM(B49:AD49) -> 90
A50: ='HUNTER by BLIND'!A50 -> 46047 | D50: 0 | F50: 3 | K50: 3 | N50: 12 | R50: 6 | S50: 26 | AE50: =SUM(B50:AD50) -> 50
A51: ='HUNTER by BLIND'!A51 -> 46053 | C51: 10 | D51: 0 | F51: 7 | S51: 7 | AA51: 9 | AE51: =SUM(B51:AD51) -> 33
A52: ='HUNTER by BLIND'!A52 -> 46074 | AE52: =SUM(B52:AD52) -> 0
A53: ='HUNTER by BLIND'!A53 -> 46075 | AE53: =SUM(B53:AD53) -> 0
A54: ='HUNTER by BLIND'!A54 -> 46078 | AE54: =SUM(B54:AD54) -> 0
A55: ='HUNTER by BLIND'!A55 -> 46081 | AE55: =SUM(B55:AD55) -> 0
A56: ='HUNTER by BLIND'!A56 -> 46082 | AE56: =SUM(B56:AD56) -> 0
A57: ='HUNTER by BLIND'!A57 -> 46085 | AE57: =SUM(B57:AD57) -> 0
A58: ='HUNTER by BLIND'!A58 -> 46088 | AE58: =SUM(B58:AD58) -> 0
A59: ='HUNTER by BLIND'!A59 -> 46089 | AE59: =SUM(B59:AD59) -> 0
A60: BLIND # | B60: 1 | C60: 2 | D60: 4 | E60: 5 | F60: 6 | G60: 7 | H60: 8 | I60: 9 | J60: 10 | K60: 11 | L60: 13 | M60: 15 | N60: 16 | O60: 17 | P60: 18 | Q60: 19 | R60: 20 | S60: 21 | T60: 22 | U60: 23 | V60: 24 | W60: 25 | X60: 26 | Y60: 27 | Z60: 28 | AA60: 29 | AB60: 30 | AC60: 31 | AD60: 32
A61: TOTAL DUCKS/BLIND | B61: =SUM(B2:B59) -> 209 | C61: =SUM(C2:C59) -> 255 | D61: =SUM(D2:D59) -> 523 | E61: =SUM(E2:E59) -> 336 | F61: =SUM(F2:F59) -> 609 | G61: =SUM(G2:G59) -> 221 | H61: =SUM(H2:H59) -> 254 | I61: =SUM(I2:I59) -> 118 | ... AD61: =SUM(AD2:AD59) -> 13 | AE61: =SUM(B61:AD61) -> 5266
A62: AVG. DUCKS/HUNTER | B62: =B61/'HUNTER by BLIND'!B61 -> 2.4880952 | C62: =C61/'HUNTER by BLIND'!C61 -> 1.9615385 | D62: =D61/'HUNTER by BLIND'!D61 -> 3.1130952 | E62: =E61/'HUNTER by BLIND'!E61 -> 2.6046512 | F62: =F61/'HUNTER by BLIND'!F61 -> 3.9803922 | G62: =G61/'HUNTER by BLIND'!G61 -> 2.4285714 | H62: =H61/'HUNTER by BLIND'!H61 -> 2.4423077 | I62: =I61/'HUNTER by BLIND'!I61 -> 2.95 | ... AE62: =AE61/'HUNTER by BLIND'!AE61 -> 2.7228542

Sheet GOOSE by BLIND
A1: DATE | B1: 1 | C1: 2 | D1: 4 | E1: 5 | F1: 6 | G1: 7 | H1: 8 | I1: 9 | J1: 10 | K1: 11 | L1: 13 | M1: 15 | N1: 16 | O1: 17 | P1: 18 | Q1: 19 | R1: 20 | S1: 21 | T1: 22 | U1: 23 | V1: 24 | W1: 25 | X1: 26 | Y1: 27 | Z1: 28 | AA1: 29 | AB1: 30 | AC1: 31 | AD1: 32 | AE1: TOTAL
A2: ='HUNTER by BLIND'!A2 -> 45941 | B2: 0 | C2: 0 | D2: 4 | E2: 1 | F2: 0 | G2: 0 | H2: 0 | I2: 0 | J2: 2 | K2: 3 | L2: 0 | M2: 0 | N2: 0 | O2: 0 | R2: 0 | AB2: 2 | AC2: 3 | AE2: =SUM(B2:AD2) -> 15
A3: ='HUNTER by BLIND'!A3 -> 45942 | B3: 0 | C3: 0 | D3: 1 | E3: 0 | F3: 0 | G3: 0 | H3: 0 | J3: 0 | K3: 0 | L3: 0 | M3: 0 | O3: 2 | Q3: 1 | R3: 0 | S3: 2 | AE3: =SUM(B3:AD3) -> 6 | AH3: Not Hunted
A4: ='HUNTER by BLIND'!A4 -> 45945 | D4: 1 | E4: 1 | F4: 0 | G4: 0 | H4: 0 | J4: 0 | K4: 0 | L4: 0 | M4: 0 | Q4: 2 | AB4: 1 | AE4: =SUM(B4:AD4) -> 5
A5: ='HUNTER by BLIND'!A5 -> 45948 | B5: 0 | C5: 0 | D5: 0 | E5: 0 | F5: 0 | G5: 0 | H5: 0 | I5: 0 | K5: 0 | L5: 0 | M5: 0 | O5: 0 | P5: 0 | Q5: 0 | R5: 0 | S5: 0 | T5: 0 | Y5: 0 | AB5: 0 | AE5: =SUM(B5:AD5) -> 0 | AH5: Youth Hunt
A6: ='HUNTER by BLIND'!A6 -> 45949 | B6: 0 | C6: 0 | D6: 0 | E6: 0 | F6: 0 | G6: 0 | H6: 0 | I6: 0 | J6: 0 | K6: 0 | M6: 0 | N6: 0 | O6: 0 | Q6: 0 | T6: 0 | AB6: 0 | AE6: =SUM(B6:AD6) -> 0
A7: ='HUNTER by BLIND'!A7 -> 45952 | C7: 1 | D7: 0 | E7: 0 | F7: 0 | K7: 0 | L7: 0 | M7: 0 | Q7: 2 | S7: 0 | AE7: =SUM(B7:AD7) -> 3 | AH7: Veteran and Active Service Members
A8: ='HUNTER by BLIND'!A8 -> 45955 | C8: 0 | D8: 0 | G8: 0 | H8: 0 | J8: 0 | K8: 0 | L8: 0 | M8: 0 | N8: 0 | O8: 1 | Q8: 0 | R8: 2 | S8: 0 | AE8: =SUM(B8:AD8) -> 3
A9: ='HUNTER by BLIND'!A9 -> 45956 | B9: 0 | C9: 0 | D9: 0 | E9: 0 | F9: 0 | G9: 0 | H9: 0 | L9: 0 | M9: 0 | O9: 0 | Q9: 0 | U9: 0 | AE9: =SUM(B9:AD9) -> 0 | AH9: White Goose Hunt
A10: ='HUNTER by BLIND'!A10 -> 45959 | B10: 0 | C10: 0 | D10: 0 | E10: 0 | F10: 0 | H10: 0 | K10: 0 | L10: 0 | M10: 0 | N10: 0 | Q10: 0 | R10: 0 | T10: 0 | AC10: 0 | AE10: =SUM(B10:AD10) -> 0
A11: ='HUNTER by BLIND'!A11 -> 45962 | B11: 0 | C11: 0 | D11: 0 | E11: 0 | F11: 0 | G11: 0 | H11: 0 | J11: 0 | K11: 0 | L11: 0 | M11: 0 | N11: 0 | O11: 0 | Q11: 0 | R11: 0 | S11: 0 | T11: 0 | AE11: =SUM(B11:AD11) -> 0
A12: ='HUNTER by BLIND'!A12 -> 45963 | C12: 0 | D12: 0 | F12: 0 | H12: 0 | J12: 0 | K12: 0 | M12: 0 | O12: 0 | Q12: 0 | R12: 0 | AE12: =SUM(B12:AD12) -> 0
A13: ='HUNTER by BLIND'!A13 -> 45966 | C13: 0 | D13: 0 | E13: 0 | F13: 0 | I13: 0 | K13: 0 | L13: 0 | M13: 0 | Q13: 0 | R13: 0 | AE13: =SUM(B13:AD13) -> 0
A14: ='HUNTER by BLIND'!A14 -> 45969 | AE14: =SUM(B14:AD14) -> 0
A15: ='HUNTER by BLIND'!A15 -> 45970 | B15: 0 | C15: 0 | D15: 0 | E15: 0 | F15: 0 | K15: 0 | L15: 0 | Q15: 0 | R15: 0 | S15: 0 | AB15: 0 | AC15: 0 | AE15: =SUM(B15:AD15) -> 0
A16: ='HUNTER by BLIND'!A16 -> 45972 | B16: 1 | C16: 0 | D16: 1 | E16: 0 | F16: 0 | G16: 0 | H16: 0 | K16: 0 | L16: 1 | Q16: 0 | S16: 0 | T16: 0 | AE16: =SUM(B16:AD16) -> 3
A17: ='HUNTER by BLIND'!A17 -> 45976 | C17: 0 | D17: 0 | E17: 0 | F17: 0 | H17: 0 | I17: 0 | J17: 0 | K17: 0 | L17: 0 | M17: 0 | N17: 1 | O17: 0 | Q17: 0 | S17: 0 | Z17: 0 | AA17: 0 | AE17: =SUM(B17:AD17) -> 1
A18: ='HUNTER by BLIND'!A18 -> 45977 | C18: 0 | D18: 0 | E18: 0 | F18: 0 | H18: 0 | J18: 0 | K18: 0 | L18: 0 | U18: 0 | AE18: =SUM(B18:AD18) -> 0
A19: ='HUNTER by BLIND'!A19 -> 45980 | B19: 0 | C19: 0 | D19: 0 | E19: 0 | F19: 2 | H19: 0 | I19: 0 | J19: 0 | K19: 0 | L19: 0 | M19: 0 | Q19: 0 | R19: 0 | S19: 0 | T19: 0 | AE19: =SUM(B19:AD19) -> 2
A20: ='HUNTER by BLIND'!A20 -> 45983 | B20: 0 | C20: 0 | D20: 0 | E20: 0 | F20: 0 | G20: 0 | H20: 0 | J20: 0 | K20: 1 | L20: 0 | P20: 6 | S20: 0 | T20: 0 | AE20: =SUM(B20:AD20) -> 7
A21: ='HUNTER by BLIND'!A21 -> 45984 | B21: 0 | C21: 0 | D21: 0 | E21: 0 | F21: 0 | H21: 0 | J21: 0 | K21: 0 | L21: 0 | M21: 0 | R21: 0 | S21: 0 | AE21: =SUM(B21:AD21) -> 0
A22: ='HUNTER by BLIND'!A22 -> 45987 | B22: 0 | C22: 0 | D22: 0 | E22: 0 | F22: 0 | G22: 0 | H22: 0 | J22: 0 | K22: 0 | L22: 0 | M22: 1 | S22: 0 | T22: 0 | U22: 1 | AE22: =SUM(B22:AD22) -> 2
A23: ='HUNTER by BLIND'!A23 -> 45988 | B23: 0 | C23: 1 | D23: 0 | E23: 0 | F23: 0 | J23: 0 | K23: 0 | L23: 0 | M23: 0 | N23: 0 | Q23: 0 | R23: 0 | S23: 0 | AE23: =SUM(B23:AD23) -> 1
A24: ='HUNTER by BLIND'!A24 -> 45990 | B24: 1 | C24: 0 | D24: 2 | E24: 0 | G24: 1 | J24: 0 | K24: 0 | L24: 0 | M24: 0 | Q24: 0 | S24: 1 | T24: 0 | U24: 1 | AB24: 1 | AE24: =SUM(B24:AD24) -> 7
A25: ='HUNTER by BLIND'!A25 -> 45991 | B25: 0 | C25: 0 | D25: 0 | E25: 0 | F25: 0 | H25: 0 | J25: 0 | L25: 0 | M25: 0 | AC25: 1 | AE25: =SUM(B25:AD25) -> 1
A26: ='HUNTER by BLIND'!A26 -> 45994 | B26: 0 | C26: 0 | D26: 0 | E26: 0 | F26: 0 | G26: 0 | H26: 0 | I26: 0 | J26: 0 | K26: 0 | L26: 0 | M26: 0 | Q26: 0 | R26: 0 | S26: 0 | AE26: =SUM(B26:AD26) -> 0
A27: ='HUNTER by BLIND'!A27 -> 45997 | B27: 0 | C27: 0 | D27: 0 | E27: 0 | F27: 0 | G27: 0 | H27: 0 | I27: 0 | J27: 0 | K27: 0 | L27: 0 | N27: 0 | O27: 0 | Q27: 0 | R27: 0 | S27: 0 | T27: 0 | U27: 0 | AE27: =SUM(B27:AD27) -> 0
A28: ='HUNTER by BLIND'!A28 -> 45998 | B28: 0 | C28: 0 | D28: 0 | E28: 0 | F28: 0 | G28: 0 | H28: 0 | J28: 0 | K28: 0 | L28: 0 | O28: 0 | Q28: 0 | R28: 0 | S28: 0 | AE28: =SUM(B28:AD28) -> 0
A29: ='HUNTER by BLIND'!A29 -> 46001 | C29: 0 | D29: 0 | E29: 0 | F29: 0 | G29: 0 | H29: 0 | J29: 0 | K29: 0 | L29: 0 | O29: 0 | Q29: 0 | S29: 0 | AE29: =SUM(B29:AD29) -> 0
A30: ='HUNTER by BLIND'!A30 -> 46004 | B30: 1 | C30: 0 | D30: 0 | E30: 0 | F30: 0 | G30: 0 | H30: 0 | I30: 1 | J30: 0 | K30: 0 | L30: 0 | M30: 0 | O30: 0 | P30: 4 | Q30: 0 | R30: 0 | S30: 0 | T30: 0 | AB30: 0 | AC30: 0 | AD30: 0 | AE30: =SUM(B30:AD30) -> 6
A31: ='HUNTER by BLIND'!A31 -> 46005 | B31: 0 | C31: 0 | D31: 0 | E31: 0 | F31: 0 | G31: 0 | H31: 0 | K31: 0 | L31: 0 | N31: 0 | Q31: 0 | S31: 0 | T31: 0 | AB31: 0 | AE31: =SUM(B31:AD31) -> 0
A32: ='HUNTER by BLIND'!A32 -> 46008 | B32: 0 | C32: 0 | D32: 0 | E32: 0 | F32: 0 | G32: 0 | H32: 0 | I32: 0 | J32: 0 | K32: 0 | L32: 0 | M32: 0 | N32: 0 | O32: 0 | Q32: 0 | S32: 0 | T32: 0 | AE32: =SUM(B32:AD32) -> 0
A33: ='HUNTER by BLIND'!A33 -> 46011 | B33: 0 | C33: 0 | D33: 0 | E33: 0 | F33: 1 | G33: 0 | H33: 0 | I33: 0 | J33: 2 | K33: 0 | L33: 0 | M33: 0 | N33: 0 | O33: 5 | Q33: 1 | R33: 0 | S33: 0 | T33: 0 | Y33: 9 | Z33: 9 | AE33: =SUM(B33:AD33) -> 27
A34: ='HUNTER by BLIND'!A34 -> 46012 | B34: 0 | C34: 0 | D34: 1 | E34: 2 | F34: 0 | G34: 0 | H34: 1 | J34: 0 | K34: 3 | L34: 0 | M34: 0 | N34: 1 | R34: 0 | S34: 0 | X34: 7 | AE34: =SUM(B34:AD34) -> 15
A35: ='HUNTER by BLIND'!A35 -> 46015 | B35: 0 | C35: 0 | D35: 0 | E35: 0 | F35: 0 | G35: 0 | H35: 0 | I35: 0 | J35: 0 | K35: 0 | L35: 0 | M35: 0 | N35: 2 | O35: 0 | Q35: 0 | R35: 0 | S35: 0 | T35: 0 | AD35: 1 | AE35: =SUM(B35:AD35) -> 3
A36: ='HUNTER by BLIND'!A36 -> 46018 | B36: 0 | C36: 0 | D36: 0 | E36: 0 | F36: 0 | G36: 0 | H36: 0 | I36: 0 | J36: 1 | K36: 1 | L36: 0 | M36: 0 | N36: 0 | O36: 0 | Q36: 1 | R36: 0 | S36: 0 | T36: 0 | AD36: 0 | AE36: =SUM(B36:AD36) -> 3
A37: ='HUNTER by BLIND'!A37 -> 46019 | C37: 0 | D37: 1 | E37: 0 | F37: 0 | G37: 0 | H37: 0 | K37: 0 | L37: 0 | M37: 0 | R37: 0 | S37: 0 | AE37: =SUM(B37:AD37) -> 1
A38: ='HUNTER by BLIND'!A38 -> 46022 | C38: 0 | D38: 0 | E38: 0 | F38: 0 | G38: 0 | H38: 0 | I38: 0 | J38: 0 | K38: 0 | L38: 0 | M38: 1 | N38: 1 | O38: 0 | Q38: 0 | R38: 0 | S38: 0 | T38: 0 | AE38: =SUM(B38:AD38) -> 2
A39: ='HUNTER by BLIND'!A39 -> 46023 | C39: 0 | D39: 0 | E39: 0 | F39: 0 | G39: 0 | H39: 0 | I39: 0 | J39: 0 | K39: 0 | L39: 0 | M39: 1 | N39: 1 | O39: 0 | Q39: 0 | R39: 0 | S39: 0 | T39: 0 | AE39: =SUM(B39:AD39) -> 2
A40: ='HUNTER by BLIND'!A40 -> 46025 | C40: 0 | D40: 0 | F40: 0 | K40: 0 | L40: 0 | M40: 0 | Q40: 0 | R40: 0 | S40: 0 | T40: 2 | AE40: =SUM(B40:AD40) -> 2
A41: ='HUNTER by BLIND'!A41 -> 46026 | B41: 0 | C41: 0 | D41: 0 | E41: 0 | F41: 0 | G41: 0 | H41: 0 | J41: 1 | K41: 0 | L41: 0 | M41: 0 | N41: 0 | S41: 0 | AE41: =SUM(B41:AD41) -> 1
A42: ='HUNTER by BLIND'!A42 -> 46029 | B42: 0 | C42: 0 | D42: 0 | E42: 0 | F42: 0 | G42: 0 | H42: 1 | I42: 0 | J42: 0 | K42: 0 | L42: 0 | M42: 0 | N42: 0 | Q42: 0 | S42: 0 | AB42: 0 | AE42: =SUM(B42:AD42) -> 1
A43: ='HUNTER by BLIND'!A43 -> 46032 | C43: 1 | D43: 0 | E43: 0 | F43: 0 | I43: 0 | J43: 0 | K43: 0 | L43: 0 | M43: 0 | Q43: 0 | S43: 0 | T43: 0 | AB43: 0 | AE43: =SUM(B43:AD43) -> 1
A44: ='HUNTER by BLIND'!A44 -> 46033 | C44: 0 | D44: 0 | E44: 0 | F44: 0 | G44: 0 | J44: 0 | K44: 0 | Q44: 0 | S44: 1 | T44: 0 | AA44: 1 | AC44: 3 | AE44: =SUM(B44:AD44) -> 5
A45: ='HUNTER by BLIND'!A45 -> 46036 | C45: 0 | D45: 0 | E45: 1 | F45: 0 | G45: 0 | J45: 0 | L45: 1 | M45: 0 | Q45: 0 | S45: 3 | T45: 0 | AC45: 0 | AE45: =SUM(B45:AD45) -> 5
A46: ='HUNTER by BLIND'!A46 -> 46039 | B46: 0 | C46: 0 | D46: 0 | E46: 0 | F46: 0 | G46: 0 | H46: 0 | I46: 0 | J46: 0 | K46: 1 | L46: 0 | M46: 0 | O46: 0 | R46: 0 | S46: 0 | T46: 0 | AE46: =SUM(B46:AD46) -> 1
A47: ='HUNTER by BLIND'!A47 -> 46040 | C47: 0 | D47: 0 | E47: 0 | F47: 0 | H47: 0 | K47: 0 | S47: 1 | AE47: =SUM(B47:AD47) -> 1
A48: ='HUNTER by BLIND'!A48 -> 46043 | C48: 0 | D48: 0 | E48: 0 | F48: 0 | G48: 0 | H48: 0 | K48: 0 | L48: 0 | M48: 0 | P48: 0 | S48: 0 | AE48: =SUM(B48:AD48) -> 0
A49: ='HUNTER by BLIND'!A49 -> 46046 | C49: 0 | D49: 0 | E49: 0 | F49: 1 | G49: 0 | K49: 0 | M49: 0 | Q49: 0 | R49: 0 | S49: 0 | AC49: 0 | AE49: =SUM(B49:AD49) -> 1
A50: ='HUNTER by BLIND'!A50 -> 46047 | D50: 0 | F50: 0 | K50: 0 | N50: 0 | R50: 0 | S50: 2 | AE50: =SUM(B50:AD50) -> 2
A51: ='HUNTER by BLIND'!A51 -> 46053 | C51: 0 | D51: 0 | F51: 0 | S51: 1 | AA51: 0 | AE51: =SUM(B51:AD51) -> 1
A52: ='HUNTER by BLIND'!A52 -> 46074 | Y52: 4 | Z52: 5 | AE52: =SUM(B52:AD52) -> 9
A53: ='HUNTER by BLIND'!A53 -> 46075 | AB53: 0 | AC53: 1 | AE53: =SUM(B53:AD53) -> 1
A54: ='HUNTER by BLIND'!A54 -> 46078 | F54: 0 | AB54: 2 | AC54: 1 | AE54: =SUM(B54:AD54) -> 3
A55: ='HUNTER by BLIND'!A55 -> 46081 | Y55: 0 | AB55: 1 | AC55: 1 | AE55: =SUM(B55:AD55) -> 2
A56: ='HUNTER by BLIND'!A56 -> 46082 | X56: 0 | Y56: 0 | Z56: 1 | AB56: 0 | AC56: 0 | AE56: =SUM(B56:AD56) -> 1
A57: ='HUNTER by BLIND'!A57 -> 46085 | AE57: =SUM(B57:AD57) -> 0
A58: ='HUNTER by BLIND'!A58 -> 46088 | Y58: 3 | Z58: 4 | AC58: 1 | AE58: =SUM(B58:AD58) -> 8
A59: ='HUNTER by BLIND'!A59 -> 46089 | Y59: 10 | Z59: 10 | AE59: =SUM(B59:AD59) -> 20
A60: BLIND # | B60: 1 | C60: 2 | D60: 4 | E60: 5 | F60: 6 | G60: 7 | H60: 8 | I60: 9 | J60: 10 | K60: 11 | L60: 13 | M60: 15 | N60: 16 | O60: 17 | P60: 18 | Q60: 19 | R60: 20 | S60: 21 | T60: 22 | U60: 23 | V60: 24 | W60: 25 | X60: 26 | Y60: 27 | Z60: 28 | AA60: 29 | AB60: 30 | AC60: 31 | AD60: 32
A61: TOTAL GEESE/BLIND | B61: 0 | C61: =SUM(C2:C59) -> 3 | D61: =SUM(D2:D59) -> 11 | E61: =SUM(E2:E59) -> 5 | F61: =SUM(F2:F59) -> 4 | G61: =SUM(G2:G59) -> 1 | H61: =SUM(H2:H59) -> 2 | I61: =SUM(I2:I59) -> 1 | J61: =SUM(J2:J59) -> 6 | ... AD61: =SUM(AD2:AD59) -> 1 | AE61: =SUM(B61:AD61) -> 177
A62: AVG. GEESE/HUNTER | B62: =B61/'HUNTER by BLIND'!B61 -> 0 | C62: =C61/'HUNTER by BLIND'!C61 -> 0.023076923 | D62: =D61/'HUNTER by BLIND'!D61 -> 0.06547619 | E62: =E61/'HUNTER by BLIND'!E61 -> 0.03875969 | F62: =F61/'HUNTER by BLIND'!F61 -> 0.026143791 | G62: =G61/'HUNTER by BLIND'!G61 -> 0.010989011 | H62: =H61/'HUNTER by BLIND'!H61 -> 0.019230769 | I62: =I61/'HUNTER by BLIND'!I61 -> 0.025 | ... AE62: =AE61/'HUNTER by BLIND'!AE61 -> 0.091520165

Sheet TOTAL DUCK SUMM
A1: DATE | B1: # DUCKS | C1: # HUNTERS | D1: DUCKS/HUNTER
A2: ='HUNTER by BLIND'!A2 -> 45941 | B2: ='DUCK by BLIND'!AE2 -> 196 | C2: ='HUNTER by BLIND'!AE2 -> 53 | D2: =B2/C2 -> 3.6981132
A3: ='HUNTER by BLIND'!A3 -> 45942 | B3: ='DUCK by BLIND'!AE3 -> 162 | C3: ='HUNTER by BLIND'!AE3 -> 42 | D3: =B3/C3 -> 3.8571429 | G3: Youth Hunt
A4: ='HUNTER by BLIND'!A4 -> 45945 | B4: ='DUCK by BLIND'!AE4 -> 98 | C4: ='HUNTER by BLIND'!AE4 -> 23 | D4: =B4/C4 -> 4.2608696
A5: ='HUNTER by BLIND'!A5 -> 45948 | B5: ='DUCK by BLIND'!AE5 -> 95 | C5: ='HUNTER by BLIND'!AE5 -> 46 | D5: =B5/C5 -> 2.0652174 | G5: Veteran and Active Service Members
A6: ='HUNTER by BLIND'!A6 -> 45949 | B6: ='DUCK by BLIND'!AE6 -> 76 | C6: ='HUNTER by BLIND'!AE6 -> 37 | D6: =B6/C6 -> 2.0540541
A7: ='HUNTER by BLIND'!A7 -> 45952 | B7: ='DUCK by BLIND'!AE7 -> 56 | C7: ='HUNTER by BLIND'!AE7 -> 19 | D7: =B7/C7 -> 2.9473684 | G7: White Goose Hunt
A8: ='HUNTER by BLIND'!A8 -> 45955 | B8: ='DUCK by BLIND'!AE8 -> 85 | C8: ='HUNTER by BLIND'!AE8 -> 38 | D8: =B8/C8 -> 2.2368421
A9: ='HUNTER by BLIND'!A9 -> 45956 | B9: ='DUCK by BLIND'!AE9 -> 37 | C9: ='HUNTER by BLIND'!AE9 -> 27 | D9: =B9/C9 -> 1.3703704
A10: ='HUNTER by BLIND'!A10 -> 45959 | B10: ='DUCK by BLIND'!AE10 -> 82 | C10: ='HUNTER by BLIND'!AE10 -> 37 | D10: =B10/C10 -> 2.2162162
A11: ='HUNTER by BLIND'!A11 -> 45962 | B11: ='DUCK by BLIND'!AE11 -> 106 | C11: ='HUNTER by BLIND'!AE11 -> 50 | D11: =B11/C11 -> 2.12
A12: ='HUNTER by BLIND'!A12 -> 45963 | B12: ='DUCK by BLIND'!AE12 -> 35 | C12: ='HUNTER by BLIND'!AE12 -> 24 | D12: =B12/C12 -> 1.4583333
A13: ='HUNTER by BLIND'!A13 -> 45966 | B13: ='DUCK by BLIND'!AE13 -> 87 | C13: ='HUNTER by BLIND'!AE13 -> 27 | D13: =B13/C13 -> 3.2222222
A14: ='HUNTER by BLIND'!A14 -> 45969 | B14: ='DUCK by BLIND'!AE14 -> 0 | C14: ='HUNTER by BLIND'!AE14 -> 0 | D14: N/A
A15: ='HUNTER by BLIND'!A15 -> 45970 | B15: ='DUCK by BLIND'!AE15 -> 39 | C15: ='HUNTER by BLIND'!AE15 -> 33 | D15: =B15/C15 -> 1.1818182
A16: ='HUNTER by BLIND'!A16 -> 45972 | B16: ='DUCK by BLIND'!AE16 -> 56 | C16: ='HUNTER by BLIND'!AE16 -> 35 | D16: =B16/C16 -> 1.6
A17: ='HUNTER by BLIND'!A17 -> 45976 | B17: ='DUCK by BLIND'!AE17 -> 114 | C17: ='HUNTER by BLIND'!AE17 -> 44 | D17: =B17/C17 -> 2.5909091
A18: ='HUNTER by BLIND'!A18 -> 45977 | B18: ='DUCK by BLIND'!AE18 -> 72 | C18: ='HUNTER by BLIND'!AE18 -> 28 | D18: =B18/C18 -> 2.5714286
A19: ='HUNTER by BLIND'!A19 -> 45980 | B19: ='DUCK by BLIND'!AE19 -> 78 | C19: ='HUNTER by BLIND'!AE19 -> 33 | D19: =B19/C19 -> 2.3636364
A20: ='HUNTER by BLIND'!A20 -> 45983 | B20: ='DUCK by BLIND'!AE20 -> 160 | C20: ='HUNTER by BLIND'!AE20 -> 39 | D20: =B20/C20 -> 4.1025641
A21: ='HUNTER by BLIND'!A21 -> 45984 | B21: ='DUCK by BLIND'!AE21 -> 73 | C21: ='HUNTER by BLIND'!AE21 -> 32 | D21: =B21/C21 -> 2.28125
A22: ='HUNTER by BLIND'!A22 -> 45987 | B22: ='DUCK by BLIND'!AE22 -> 101 | C22: ='HUNTER by BLIND'!AE22 -> 38 | D22: =B22/C22 -> 2.6578947
A23: ='HUNTER by BLIND'!A23 -> 45988 | B23: ='DUCK by BLIND'!AE23 -> 79 | C23: ='HUNTER by BLIND'!AE23 -> 40 | D23: =B23/C23 -> 1.975
A24: ='HUNTER by BLIND'!A24 -> 45990 | B24: ='DUCK by BLIND'!AE24 -> 154 | C24: ='HUNTER by BLIND'!AE24 -> 44 | D24: =B24/C24 -> 3.5
A25: ='HUNTER by BLIND'!A25 -> 45991 | B25: ='DUCK by BLIND'!AE25 -> 89 | C25: ='HUNTER by BLIND'!AE25 -> 33 | D25: =B25/C25 -> 2.6969697
A26: ='HUNTER by BLIND'!A26 -> 45994 | B26: ='DUCK by BLIND'!AE26 -> 165 | C26: ='HUNTER by BLIND'!AE26 -> 33 | D26: =B26/C26 -> 5
... A51: ='HUNTER by BLIND'!A51 -> 46053 | B51: ='DUCK by BLIND'!AE51 -> 33 | C51: ='HUNTER by BLIND'!AE51 -> 8 | D51: =B51/C51 -> 4.125
A52: GRAND TOTAL | B52: =SUM(B2:B51) -> 5266 | C52: =SUM(C2:C51) -> 1874 | D52: =B52/C52 -> 2.810032

Sheet TOTAL GOOSE SUMM
A1: DATE | B1: # GEESE | C1: # HUNTERS | D1: GEESE/HUNTER
A2: ='HUNTER by BLIND'!A2 -> 45941 | B2: ='GOOSE by BLIND'!AE2 -> 15 | C2: ='HUNTER by BLIND'!AE2 -> 53 | D2: =B2/C2 -> 0.28301887
A3: ='HUNTER by BLIND'!A3 -> 45942 | B3: ='GOOSE by BLIND'!AE3 -> 6 | C3: ='HUNTER by BLIND'!AE3 -> 42 | D3: =B3/C3 -> 0.14285714 | G3: Youth Hunt
A4: ='HUNTER by BLIND'!A4 -> 45945 | B4: ='GOOSE by BLIND'!AE4 -> 5 | C4: ='HUNTER by BLIND'!AE4 -> 23 | D4: =B4/C4 -> 0.2173913
A5: ='HUNTER by BLIND'!A5 -> 45948 | B5: ='GOOSE by BLIND'!AE5 -> 0 | C5: ='HUNTER by BLIND'!AE5 -> 46 | D5: =B5/C5 -> 0 | G5: Veteran and Active Service Members
A6: ='HUNTER by BLIND'!A6 -> 45949 | B6: ='GOOSE by BLIND'!AE6 -> 0 | C6: ='HUNTER by BLIND'!AE6 -> 37 | D6: =B6/C6 -> 0
A7: ='HUNTER by BLIND'!A7 -> 45952 | B7: ='GOOSE by BLIND'!AE7 -> 3 | C7: ='HUNTER by BLIND'!AE7 -> 19 | D7: =B7/C7 -> 0.15789474 | G7: White Goose Hunt
A8: ='HUNTER by BLIND'!A8 -> 45955 | B8: ='GOOSE by BLIND'!AE8 -> 3 | C8: ='HUNTER by BLIND'!AE8 -> 38 | D8: =B8/C8 -> 0.078947368
A9: ='HUNTER by BLIND'!A9 -> 45956 | B9: ='GOOSE by BLIND'!AE9 -> 0 | C9: ='HUNTER by BLIND'!AE9 -> 27 | D9: =B9/C9 -> 0
A10: ='HUNTER by BLIND'!A10 -> 45959 | B10: ='GOOSE by BLIND'!AE10 -> 0 | C10: ='HUNTER by BLIND'!AE10 -> 37 | D10: =B10/C10 -> 0
A11: ='HUNTER by BLIND'!A11 -> 45962 | B11: ='GOOSE by BLIND'!AE11 -> 0 | C11: ='HUNTER by BLIND'!AE11 -> 50 | D11: =B11/C11 -> 0
A12: ='HUNTER by BLIND'!A12 -> 45963 | B12: ='GOOSE by BLIND'!AE12 -> 0 | C12: ='HUNTER by BLIND'!AE12 -> 24 | D12: =B12/C12 -> 0
A13: ='HUNTER by BLIND'!A13 -> 45966 | B13: ='GOOSE by BLIND'!AE13 -> 0 | C13: ='HUNTER by BLIND'!AE13 -> 27 | D13: =B13/C13 -> 0
A14: ='HUNTER by BLIND'!A14 -> 45969 | B14: ='GOOSE by BLIND'!AE14 -> 0 | C14: ='HUNTER by BLIND'!AE14 -> 0 | D14: N/A
A15: ='HUNTER by BLIND'!A15 -> 45970 | B15: ='GOOSE by BLIND'!AE15 -> 0 | C15: ='HUNTER by BLIND'!AE15 -> 33 | D15: =B15/C15 -> 0
A16: ='HUNTER by BLIND'!A16 -> 45972 | B16: ='GOOSE by BLIND'!AE16 -> 3 | C16: ='HUNTER by BLIND'!AE16 -> 35 | D16: =B16/C16 -> 0.085714286
A17: ='HUNTER by BLIND'!A17 -> 45976 | B17: ='GOOSE by BLIND'!AE17 -> 1 | C17: ='HUNTER by BLIND'!AE17 -> 44 | D17: =B17/C17 -> 0.022727273
A18: ='HUNTER by BLIND'!A18 -> 45977 | B18: ='GOOSE by BLIND'!AE18 -> 0 | C18: ='HUNTER by BLIND'!AE18 -> 28 | D18: =B18/C18 -> 0
A19: ='HUNTER by BLIND'!A19 -> 45980 | B19: ='GOOSE by BLIND'!AE19 -> 2 | C19: ='HUNTER by BLIND'!AE19 -> 33 | D19: =B19/C19 -> 0.060606061
A20: ='HUNTER by BLIND'!A20 -> 45983 | B20: ='GOOSE by BLIND'!AE20 -> 7 | C20: ='HUNTER by BLIND'!AE20 -> 39 | D20: =B20/C20 -> 0.17948718
A21: ='HUNTER by BLIND'!A21 -> 45984 | B21: ='GOOSE by BLIND'!AE21 -> 0 | C21: ='HUNTER by BLIND'!AE21 -> 32 | D21: =B21/C21 -> 0
A22: ='HUNTER by BLIND'!A22 -> 45987 | B22: ='GOOSE by BLIND'!AE22 -> 2 | C22: ='HUNTER by BLIND'!AE22 -> 38 | D22: =B22/C22 -> 0.052631579
A23: ='HUNTER by BLIND'!A23 -> 45988 | B23: ='GOOSE by BLIND'!AE23 -> 1 | C23: ='HUNTER by BLIND'!AE23 -> 40 | D23: =B23/C23 -> 0.025
A24: ='HUNTER by BLIND'!A24 -> 45990 | B24: ='GOOSE by BLIND'!AE24 -> 7 | C24: ='HUNTER by BLIND'!AE24 -> 44 | D24: =B24/C24 -> 0.15909091
A25: ='HUNTER by BLIND'!A25 -> 45991 | B25: ='GOOSE by BLIND'!AE25 -> 1 | C25: ='HUNTER by BLIND'!AE25 -> 33 | D25: =B25/C25 -> 0.03030303
A26: ='HUNTER by BLIND'!A26 -> 45994 | B26: ='GOOSE by BLIND'!AE26 -> 0 | C26: ='HUNTER by BLIND'!AE26 -> 33 | D26: =B26/C26 -> 0
... A59: ='HUNTER by BLIND'!A59 -> 46089 | B59: ='GOOSE by BLIND'!AE59 -> 20 | C59: ='HUNTER by BLIND'!AE59 -> 7 | D59: =B59/C59 -> 2.8571429
A60: GRAND TOTAL | B60: =SUM(B2:B59) -> 180 | C60: =SUM(C2:C59) -> 1934 | D60: =B60/C60 -> 0.093071355

Sheet TOTAL BIRD SUMM
A1: DATE | B1: # HUNTERS | C1: # DUCKS | D1: # GEESE | E1: # BIRDS | F1: BIRDS/HUNTER | K1: BLIND # | L1: LOCATION | M1: # HUNTERS | N1: # DUCKS | O1: # GEESE | P1: DUCKS/HUNTER | Q1: GEESE/HUNTER | R1: BIRDS/HUNTER
A2: ='HUNTER by BLIND'!A2 -> 45941 | B2: ='HUNTER by BLIND'!AE2 -> 53 | C2: ='DUCK by BLIND'!AE2 -> 196 | D2: ='GOOSE by BLIND'!AE2 -> 15 | E2: =C2+D2 -> 211 | F2: =E2/B2 -> 3.9811321 | K2: ='HUNTER by BLIND'!B1 -> 1 | L2: Slough - West Side | M2: ='HUNTER by BLIND'!B61 -> 84 | N2: ='DUCK by BLIND'!B61 -> 209 | O2: ='GOOSE by BLIND'!B61 -> 0 | P2: =N2/M2 -> 2.4880952 | Q2: =O2/M2 -> 0 | R2: =(N2+O2)/M2 -> 2.4880952
A3: ='HUNTER by BLIND'!A3 -> 45942 | B3: ='HUNTER by BLIND'!AE3 -> 42 | C3: ='DUCK by BLIND'!AE3 -> 162 | D3: ='GOOSE by BLIND'!AE3 -> 6 | E3: =C3+D3 -> 168 | F3: =E3/B3 -> 4 | I3: Youth Hunt | K3: ='HUNTER by BLIND'!C1 -> 2 | L3: Slough - West Side | M3: ='HUNTER by BLIND'!C61 -> 130 | N3: ='DUCK by BLIND'!C61 -> 255 | O3: ='GOOSE by BLIND'!C61 -> 3 | P3: =N3/M3 -> 1.9615385 | Q3: =O3/M3 -> 0.023076923 | R3: =(N3+O3)/M3 -> 1.9846154
A4: ='HUNTER by BLIND'!A4 -> 45945 | B4: ='HUNTER by BLIND'!AE4 -> 23 | C4: ='DUCK by BLIND'!AE4 -> 98 | D4: ='GOOSE by BLIND'!AE4 -> 5 | E4: =C4+D4 -> 103 | F4: =E4/B4 -> 4.4782609 | K4: ='HUNTER by BLIND'!D1 -> 4 | L4: Slough - West Side | M4: ='HUNTER by BLIND'!D61 -> 168 | N4: ='DUCK by BLIND'!D61 -> 523 | O4: ='GOOSE by BLIND'!D61 -> 11 | P4: =N4/M4 -> 3.1130952 | Q4: =O4/M4 -> 0.06547619 | R4: =(N4+O4)/M4 -> 3.1785714
A5: ='HUNTER by BLIND'!A5 -> 45948 | B5: ='HUNTER by BLIND'!AE5 -> 46 | C5: ='DUCK by BLIND'!AE5 -> 95 | D5: ='GOOSE by BLIND'!AE5 -> 0 | E5: =C5+D5 -> 95 | F5: =E5/B5 -> 2.0652174 | I5: Veteran and Active Service Members | K5: ='HUNTER by BLIND'!E1 -> 5 | L5: Slough - West Side | M5: ='HUNTER by BLIND'!E61 -> 129 | N5: ='DUCK by BLIND'!E61 -> 336 | O5: ='GOOSE by BLIND'!E61 -> 5 | P5: =N5/M5 -> 2.6046512 | Q5: =O5/M5 -> 0.03875969 | R5: =(N5+O5)/M5 -> 2.6434109
A6: ='HUNTER by BLIND'!A6 -> 45949 | B6: ='HUNTER by BLIND'!AE6 -> 37 | C6: ='DUCK by BLIND'!AE6 -> 76 | D6: ='GOOSE by BLIND'!AE6 -> 0 | E6: =C6+D6 -> 76 | F6: =E6/B6 -> 2.0540541 | K6: ='HUNTER by BLIND'!F1 -> 6 | L6: Slough - West Side | M6: ='HUNTER by BLIND'!F61 -> 153 | N6: ='DUCK by BLIND'!F61 -> 609 | O6: ='GOOSE by BLIND'!F61 -> 4 | P6: =N6/M6 -> 3.9803922 | Q6: =O6/M6 -> 0.026143791 | R6: =(N6+O6)/M6 -> 4.0065359
A7: ='HUNTER by BLIND'!A7 -> 45952 | B7: ='HUNTER by BLIND'!AE7 -> 19 | C7: ='DUCK by BLIND'!AE7 -> 56 | D7: ='GOOSE by BLIND'!AE7 -> 3 | E7: =C7+D7 -> 59 | F7: =E7/B7 -> 3.1052632 | I7: White Goose Hunt | K7: ='HUNTER by BLIND'!G1 -> 7 | L7: Slough - West Side | M7: ='HUNTER by BLIND'!G61 -> 91 | N7: ='DUCK by BLIND'!G61 -> 221 | O7: ='GOOSE by BLIND'!G61 -> 1 | P7: =N7/M7 -> 2.4285714 | Q7: =O7/M7 -> 0.010989011 | R7: =(N7+O7)/M7 -> 2.4395604
A8: ='HUNTER by BLIND'!A8 -> 45955 | B8: ='HUNTER by BLIND'!AE8 -> 38 | C8: ='DUCK by BLIND'!AE8 -> 85 | D8: ='GOOSE by BLIND'!AE8 -> 3 | E8: =C8+D8 -> 88 | F8: =E8/B8 -> 2.3157895 | K8: ='HUNTER by BLIND'!H1 -> 8 | L8: Slough - West Side | M8: ='HUNTER by BLIND'!H61 -> 104 | N8: ='DUCK by BLIND'!H61 -> 254 | O8: ='GOOSE by BLIND'!H61 -> 2 | P8: =N8/M8 -> 2.4423077 | Q8: =O8/M8 -> 0.019230769 | R8: =(N8+O8)/M8 -> 2.4615385
A9: ='HUNTER by BLIND'!A9 -> 45956 | B9: ='HUNTER by BLIND'!AE9 -> 27 | C9: ='DUCK by BLIND'!AE9 -> 37 | D9: ='GOOSE by BLIND'!AE9 -> 0 | E9: =C9+D9 -> 37 | F9: =E9/B9 -> 1.3703704 | K9: ='HUNTER by BLIND'!I1 -> 9 | L9: Slough - East Side | M9: ='HUNTER by BLIND'!I61 -> 40 | N9: ='DUCK by BLIND'!I61 -> 118 | O9: ='GOOSE by BLIND'!I61 -> 1 | P9: =N9/M9 -> 2.95 | Q9: =O9/M9 -> 0.025 | R9: =(N9+O9)/M9 -> 2.975
A10: ='HUNTER by BLIND'!A10 -> 45959 | B10: ='HUNTER by BLIND'!AE10 -> 37 | C10: ='DUCK by BLIND'!AE10 -> 82 | D10: ='GOOSE by BLIND'!AE10 -> 0 | E10: =C10+D10 -> 82 | F10: =E10/B10 -> 2.2162162 | K10: ='HUNTER by BLIND'!J1 -> 10 | L10: Slough - West Side | M10: ='HUNTER by BLIND'!J61 -> 88 | N10: ='DUCK by BLIND'!J61 -> 408 | O10: ='GOOSE by BLIND'!J61 -> 6 | P10: =N10/M10 -> 4.6363636 | Q10: =O10/M10 -> 0.068181818 | R10: =(N10+O10)/M10 -> 4.7045455
A11: ='HUNTER by BLIND'!A11 -> 45962 | B11: ='HUNTER by BLIND'!AE11 -> 50 | C11: ='DUCK by BLIND'!AE11 -> 106 | D11: ='GOOSE by BLIND'!AE11 -> 0 | E11: =C11+D11 -> 106 | F11: =E11/B11 -> 2.12 | K11: ='HUNTER by BLIND'!K1 -> 11 | L11: Slough - East Side | M11: ='HUNTER by BLIND'!K61 -> 127 | N11: ='DUCK by BLIND'!K61 -> 426 | O11: ='GOOSE by BLIND'!K61 -> 9 | P11: =N11/M11 -> 3.3543307 | Q11: =O11/M11 -> 0.070866142 | R11: =(N11+O11)/M11 -> 3.4251969
A12: ='HUNTER by BLIND'!A12 -> 45963 | B12: ='HUNTER by BLIND'!AE12 -> 24 | C12: ='DUCK by BLIND'!AE12 -> 35 | D12: ='GOOSE by BLIND'!AE12 -> 0 | E12: =C12+D12 -> 35 | F12: =E12/B12 -> 1.4583333 | K12: ='HUNTER by BLIND'!L1 -> 13 | L12: Slough - East Side | M12: ='HUNTER by BLIND'!L61 -> 129 | N12: ='DUCK by BLIND'!L61 -> 446 | O12: ='GOOSE by BLIND'!L61 -> 2 | P12: =N12/M12 -> 3.4573643 | Q12: =O12/M12 -> 0.015503876 | R12: =(N12+O12)/M12 -> 3.4728682
A13: ='HUNTER by BLIND'!A13 -> 45966 | B13: ='HUNTER by BLIND'!AE13 -> 27 | C13: ='DUCK by BLIND'!AE13 -> 87 | D13: ='GOOSE by BLIND'!AE13 -> 0 | E13: =C13+D13 -> 87 | F13: =E13/B13 -> 3.2222222 | K13: ='HUNTER by BLIND'!M1 -> 15 | L13: Slough - West Side | M13: ='HUNTER by BLIND'!M61 -> 97 | N13: ='DUCK by BLIND'!M61 -> 233 | O13: ='GOOSE by BLIND'!M61 -> 3 | P13: =N13/M13 -> 2.4020619 | Q13: =O13/M13 -> 0.030927835 | R13: =(N13+O13)/M13 -> 2.4329897
A14: ='HUNTER by BLIND'!A14 -> 45969 | B14: ='HUNTER by BLIND'!AE14 -> 0 | C14: ='DUCK by BLIND'!AE14 -> 0 | D14: ='GOOSE by BLIND'!AE14 -> 0 | E14: =C14+D14 -> 0 | F14: N/A | K14: ='HUNTER by BLIND'!N1 -> 16 | L14: Slough - West Side | M14: ='HUNTER by BLIND'!N61 -> 49 | N14: ='DUCK by BLIND'!N61 -> 86 | O14: ='GOOSE by BLIND'!N61 -> 6 | P14: =N14/M14 -> 1.755102 | Q14: =O14/M14 -> 0.12244898 | R14: =(N14+O14)/M14 -> 1.877551
A15: ='HUNTER by BLIND'!A15 -> 45970 | B15: ='HUNTER by BLIND'!AE15 -> 33 | C15: ='DUCK by BLIND'!AE15 -> 39 | D15: ='GOOSE by BLIND'!AE15 -> 0 | E15: =C15+D15 -> 39 | F15: =E15/B15 -> 1.1818182 | K15: ='HUNTER by BLIND'!O1 -> 17 | L15: Slough - West Side | M15: ='HUNTER by BLIND'!O61 -> 53 | N15: ='DUCK by BLIND'!O61 -> 129 | O15: ='GOOSE by BLIND'!O61 -> 8 | P15: =N15/M15 -> 2.4339623 | Q15: =O15/M15 -> 0.1509434 | R15: =(N15+O15)/M15 -> 2.5849057
A16: ='HUNTER by BLIND'!A16 -> 45972 | B16: ='HUNTER by BLIND'!AE16 -> 35 | C16: ='DUCK by BLIND'!AE16 -> 56 | D16: ='GOOSE by BLIND'!AE16 -> 3 | E16: =C16+D16 -> 59 | F16: =E16/B16 -> 1.6857143 | K16: ='HUNTER by BLIND'!P1 -> 18 | L16: Field | M16: ='HUNTER by BLIND'!P61 -> 9 | N16: ='DUCK by BLIND'!P61 -> 24 | O16: ='GOOSE by BLIND'!P61 -> 10 | P16: =N16/M16 -> 2.6666667 | Q16: =O16/M16 -> 1.1111111 | R16: =(N16+O16)/M16 -> 3.7777778
A17: ='HUNTER by BLIND'!A17 -> 45976 | B17: ='HUNTER by BLIND'!AE17 -> 44 | C17: ='DUCK by BLIND'!AE17 -> 114 | D17: ='GOOSE by BLIND'!AE17 -> 1 | E17: =C17+D17 -> 115 | F17: =E17/B17 -> 2.6136364 | K17: ='HUNTER by BLIND'!Q1 -> 19 | L17: Slough - East Side | M17: ='HUNTER by BLIND'!Q61 -> 84 | N17: ='DUCK by BLIND'!Q61 -> 204 | O17: ='GOOSE by BLIND'!Q61 -> 7 | P17: =N17/M17 -> 2.4285714 | Q17: =O17/M17 -> 0.083333333 | R17: =(N17+O17)/M17 -> 2.5119048
A18: ='HUNTER by BLIND'!A18 -> 45977 | B18: ='HUNTER by BLIND'!AE18 -> 28 | C18: ='DUCK by BLIND'!AE18 -> 72 | D18: ='GOOSE by BLIND'!AE18 -> 0 | E18: =C18+D18 -> 72 | F18: =E18/B18 -> 2.5714286 | K18: ='HUNTER by BLIND'!R1 -> 20 | L18: Slough - East Side | M18: ='HUNTER by BLIND'!R61 -> 69 | N18: ='DUCK by BLIND'!R61 -> 209 | O18: ='GOOSE by BLIND'!R61 -> 2 | P18: =N18/M18 -> 3.0289855 | Q18: =O18/M18 -> 0.028985507 | R18: =(N18+O18)/M18 -> 3.057971
A19: ='HUNTER by BLIND'!A19 -> 45980 | B19: ='HUNTER by BLIND'!AE19 -> 33 | C19: ='DUCK by BLIND'!AE19 -> 78 | D19: ='GOOSE by BLIND'!AE19 -> 2 | E19: =C19+D19 -> 80 | F19: =E19/B19 -> 2.4242424 | K19: ='HUNTER by BLIND'!S1 -> 21 | L19: Slough - East Side | M19: ='HUNTER by BLIND'!S61 -> 125 | N19: ='DUCK by BLIND'!S61 -> 371 | O19: ='GOOSE by BLIND'!S61 -> 11 | P19: =N19/M19 -> 2.968 | Q19: =O19/M19 -> 0.088 | R19: =(N19+O19)/M19 -> 3.056
A20: ='HUNTER by BLIND'!A20 -> 45983 | B20: ='HUNTER by BLIND'!AE20 -> 39 | C20: ='DUCK by BLIND'!AE20 -> 160 | D20: ='GOOSE by BLIND'!AE20 -> 7 | E20: =C20+D20 -> 167 | F20: =E20/B20 -> 4.2820513 | K20: ='HUNTER by BLIND'!T1 -> 22 | L20: Slough - East Side | M20: ='HUNTER by BLIND'!T61 -> 58 | N20: ='DUCK by BLIND'!T61 -> 140 | O20: ='GOOSE by BLIND'!T61 -> 2 | P20: =N20/M20 -> 2.4137931 | Q20: =O20/M20 -> 0.034482759 | R20: =(N20+O20)/M20 -> 2.4482759
A21: ='HUNTER by BLIND'!A21 -> 45984 | B21: ='HUNTER by BLIND'!AE21 -> 32 | C21: ='DUCK by BLIND'!AE21 -> 73 | D21: ='GOOSE by BLIND'!AE21 -> 0 | E21: =C21+D21 -> 73 | F21: =E21/B21 -> 2.28125 | K21: ='HUNTER by BLIND'!U1 -> 23 | L21: Slough - East Side | M21: ='HUNTER by BLIND'!U61 -> 14 | N21: ='DUCK by BLIND'!U61 -> 25 | O21: ='GOOSE by BLIND'!U61 -> 2 | P21: =N21/M21 -> 1.7857143 | Q21: =O21/M21 -> 0.14285714 | R21: =(N21+O21)/M21 -> 1.9285714
A22: ='HUNTER by BLIND'!A22 -> 45987 | B22: ='HUNTER by BLIND'!AE22 -> 38 | C22: ='DUCK by BLIND'!AE22 -> 101 | D22: ='GOOSE by BLIND'!AE22 -> 2 | E22: =C22+D22 -> 103 | F22: =E22/B22 -> 2.7105263 | K22: ='HUNTER by BLIND'!V1 -> 24 | L22: Field | M22: ='HUNTER by BLIND'!V61 -> 0 | N22: ='DUCK by BLIND'!V61 -> 0 | O22: ='GOOSE by BLIND'!V61 -> 0 | P22: N/A | Q22: N/A | R22: N/A
A23: ='HUNTER by BLIND'!A23 -> 45988 | B23: ='HUNTER by BLIND'!AE23 -> 40 | C23: ='DUCK by BLIND'!AE23 -> 79 | D23: ='GOOSE by BLIND'!AE23 -> 1 | E23: =C23+D23 -> 80 | F23: =E23/B23 -> 2 | K23: ='HUNTER by BLIND'!W1 -> 25 | L23: Field | M23: ='HUNTER by BLIND'!W61 -> 0 | N23: ='DUCK by BLIND'!W61 -> 0 | O23: ='GOOSE by BLIND'!W61 -> 0 | P23: 0 | Q23: N/A | R23: N/A
A24: ='HUNTER by BLIND'!A24 -> 45990 | B24: ='HUNTER by BLIND'!AE24 -> 44 | C24: ='DUCK by BLIND'!AE24 -> 154 | D24: ='GOOSE by BLIND'!AE24 -> 7 | E24: =C24+D24 -> 161 | F24: =E24/B24 -> 3.6590909 | K24: 26 | L24: Field | M24: ='HUNTER by BLIND'!X61 -> 4 | N24: ='DUCK by BLIND'!X61 -> 0 | O24: ='GOOSE by BLIND'!Y61 -> 26 | P24: 0 | Q24: =O24/M24 -> 6.5 | R24: =(N24+O24)/M24 -> 6.5
A25: ='HUNTER by BLIND'!A25 -> 45991 | B25: ='HUNTER by BLIND'!AE25 -> 33 | C25: ='DUCK by BLIND'!AE25 -> 89 | D25: ='GOOSE by BLIND'!AE25 -> 1 | E25: =C25+D25 -> 90 | F25: =E25/B25 -> 2.7272727 | K25: ='HUNTER by BLIND'!Y1 -> 27 | L25: Field | M25: ='HUNTER by BLIND'!Y61 -> 20 | N25: ='DUCK by BLIND'!Y61 -> 0 | O25: ='GOOSE by BLIND'!Y61 -> 26 | P25: 0 | Q25: =O25/M25 -> 1.3 | R25: =(N25+O25)/M25 -> 1.3
A26: ='HUNTER by BLIND'!A26 -> 45994 | B26: ='HUNTER by BLIND'!AE26 -> 33 | C26: ='DUCK by BLIND'!AE26 -> 165 | D26: ='GOOSE by BLIND'!AE26 -> 0 | E26: =C26+D26 -> 165 | F26: =E26/B26 -> 5 | K26: ='HUNTER by BLIND'!Z1 -> 28 | L26: Field | M26: ='HUNTER by BLIND'!Z61 -> 18 | N26: ='DUCK by BLIND'!Z61 -> 3 | O26: ='GOOSE by BLIND'!Z61 -> 29 | P26: 0 | Q26: =O26/M26 -> 1.6111111 | R26: =(N26+O26)/M26 -> 1.7777778
A27: ='HUNTER by BLIND'!A27 -> 45997 | B27: ='HUNTER by BLIND'!AE27 -> 50 | C27: ='DUCK by BLIND'!AE27 -> 252 | D27: ='GOOSE by BLIND'!AE27 -> 0 | E27: =C27+D27 -> 252 | F27: =E27/B27 -> 5.04 | K27: ='HUNTER by BLIND'!AA1 -> 29 | L27: Field | M27: ='HUNTER by BLIND'!AA61 -> 8 | N27: ='DUCK by BLIND'!AA61 -> 9 | O27: ='GOOSE by BLIND'!AA61 -> 1 | P27: =N27/M27 -> 1.125 | Q27: =O27/M27 -> 0.125 | R27: =(N27+O27)/M27 -> 1.25
A28: ='HUNTER by BLIND'!A28 -> 45998 | B28: ='HUNTER by BLIND'!AE28 -> 38 | C28: ='DUCK by BLIND'!AE28 -> 105 | D28: ='GOOSE by BLIND'!AE28 -> 0 | E28: =C28+D28 -> 105 | F28: =E28/B28 -> 2.7631579 | K28: ='HUNTER by BLIND'!AB1 -> 30 | L28: Field | M28: ='HUNTER by BLIND'!AB61 -> 45 | N28: ='DUCK by BLIND'!AB61 -> 10 | O28: ='GOOSE by BLIND'!AB61 -> 7 | P28: =N28/M28 -> 0.22222222 | Q28: =O28/M28 -> 0.15555556 | R28: =(N28+O28)/M28 -> 0.37777778
A29: ='HUNTER by BLIND'!A29 -> 46001 | B29: ='HUNTER by BLIND'!AE29 -> 33 | C29: ='DUCK by BLIND'!AE29 -> 160 | D29: ='GOOSE by BLIND'!AE29 -> 0 | E29: =C29+D29 -> 160 | F29: =E29/B29 -> 4.8484848 | K29: ='HUNTER by BLIND'!AC1 -> 31 | L29: Field | M29: ='HUNTER by BLIND'!AC61 -> 26 | N29: ='DUCK by BLIND'!AC61 -> 5 | O29: ='GOOSE by BLIND'!AC61 -> 11 | P29: =N29/M29 -> 0.19230769 | Q29: =O29/M29 -> 0.42307692 | R29: =(N29+O29)/M29 -> 0.61538462
A30: ='HUNTER by BLIND'!A30 -> 46004 | B30: ='HUNTER by BLIND'!AE30 -> 62 | C30: ='DUCK by BLIND'!AE30 -> 184 | D30: ='GOOSE by BLIND'!AE30 -> 6 | E30: =C30+D30 -> 190 | F30: =E30/B30 -> 3.0645161 | K30: ='HUNTER by BLIND'!AD1 -> 32 | L30: Slough - East Side | M30: ='HUNTER by BLIND'!AD61 -> 12 | N30: ='DUCK by BLIND'!AD61 -> 13 | O30: ='GOOSE by BLIND'!AD61 -> 1 | P30: =N30/M30 -> 1.0833333 | Q30: =O30/M30 -> 0.083333333 | R30: =(N30+O30)/M30 -> 1.1666667
A31: ='HUNTER by BLIND'!A31 -> 46005 | B31: ='HUNTER by BLIND'!AE31 -> 41 | C31: ='DUCK by BLIND'!AE31 -> 77 | D31: ='GOOSE by BLIND'!AE31 -> 0 | E31: =C31+D31 -> 77 | F31: =E31/B31 -> 1.8780488 | K31: TOTALS | M31: =SUM(M2:M30) -> 1934 | N31: =SUM(N2:N30) -> 5266 | O31: =SUM(O2:O30) -> 196 | P31: =N31/M31 -> 2.7228542 | Q31: =O31/M31 -> 0.10134436 | R31: =(N31+O31)/M31 -> 2.8241986
A32: ='HUNTER by BLIND'!A32 -> 46008 | B32: ='HUNTER by BLIND'!AE32 -> 44 | C32: ='DUCK by BLIND'!AE32 -> 223 | D32: ='GOOSE by BLIND'!AE32 -> 0 | E32: =C32+D32 -> 223 | F32: =E32/B32 -> 5.0681818
A33: ='HUNTER by BLIND'!A33 -> 46011 | B33: ='HUNTER by BLIND'!AE33 -> 64 | C33: ='DUCK by BLIND'!AE33 -> 253 | D33: ='GOOSE by BLIND'!AE33 -> 27 | E33: =C33+D33 -> 280 | F33: =E33/B33 -> 4.375
A34: ='HUNTER by BLIND'!A34 -> 46012 | B34: ='HUNTER by BLIND'!AE34 -> 46 | C34: ='DUCK by BLIND'!AE34 -> 83 | D34: ='GOOSE by BLIND'!AE34 -> 15 | E34: =C34+D34 -> 98 | F34: =E34/B34 -> 2.1304348
A35: ='HUNTER by BLIND'!A35 -> 46015 | B35: ='HUNTER by BLIND'!AE35 -> 66 | C35: ='DUCK by BLIND'!AE35 -> 189 | D35: ='GOOSE by BLIND'!AE35 -> 3 | E35: =C35+D35 -> 192 | F35: =E35/B35 -> 2.9090909
A36: ='HUNTER by BLIND'!A36 -> 46018 | B36: ='HUNTER by BLIND'!AE36 -> 68 | C36: ='DUCK by BLIND'!AE36 -> 247 | D36: ='GOOSE by BLIND'!AE36 -> 3 | E36: =C36+D36 -> 250 | F36: =E36/B36 -> 3.6764706
A37: ='HUNTER by BLIND'!A37 -> 46019 | B37: ='HUNTER by BLIND'!AE37 -> 32 | C37: ='DUCK by BLIND'!AE37 -> 82 | D37: ='GOOSE by BLIND'!AE37 -> 1 | E37: =C37+D37 -> 83 | F37: =E37/B37 -> 2.59375
A38: ='HUNTER by BLIND'!A38 -> 46022 | B38: ='HUNTER by BLIND'!AE38 -> 55 | C38: ='DUCK by BLIND'!AE38 -> 106 | D38: ='GOOSE by BLIND'!AE38 -> 2 | E38: =C38+D38 -> 108 | F38: =E38/B38 -> 1.9636364
A39: ='HUNTER by BLIND'!A39 -> 46023 | B39: ='HUNTER by BLIND'!AE39 -> 27 | C39: ='DUCK by BLIND'!AE39 -> 138 | D39: ='GOOSE by BLIND'!AE39 -> 2 | E39: =C39+D39 -> 140 | F39: =E39/B39 -> 5.1851852
A40: ='HUNTER by BLIND'!A40 -> 46025 | B40: ='HUNTER by BLIND'!AE40 -> 58 | C40: ='DUCK by BLIND'!AE40 -> 118 | D40: ='GOOSE by BLIND'!AE40 -> 2 | E40: =C40+D40 -> 120 | F40: =E40/B40 -> 2.0689655
A41: ='HUNTER by BLIND'!A41 -> 46026 | B41: ='HUNTER by BLIND'!AE41 -> 38 | C41: ='DUCK by BLIND'!AE41 -> 116 | D41: ='GOOSE by BLIND'!AE41 -> 1 | E41: =C41+D41 -> 117 | F41: =E41/B41 -> 3.0789474
A42: ='HUNTER by BLIND'!A42 -> 46029 | B42: ='HUNTER by BLIND'!AE42 -> 42 | C42: ='DUCK by BLIND'!AE42 -> 110 | D42: ='GOOSE by BLIND'!AE42 -> 1 | E42: =C42+D42 -> 111 | F42: =E42/B42 -> 2.6428571
A43: ='HUNTER by BLIND'!A43 -> 46032 | B43: ='HUNTER by BLIND'!AE43 -> 44 | C43: ='DUCK by BLIND'!AE43 -> 115 | D43: ='GOOSE by BLIND'!AE43 -> 1 | E43: =C43+D43 -> 116 | F43: =E43/B43 -> 2.6363636
... A49: ='HUNTER by BLIND'!A49 -> 46046 | B49: ='HUNTER by BLIND'!AE49 -> 31 | C49: ='DUCK by BLIND'!AE49 -> 90 | D49: ='GOOSE by BLIND'!AE49 -> 1 | E49: =C49+D49 -> 91 | F49: =E49/B49 -> 2.9354839
A50: ='HUNTER by BLIND'!A50 -> 46047 | B50: ='HUNTER by BLIND'!AE50 -> 15 | C50: ='DUCK by BLIND'!AE50 -> 50 | D50: ='GOOSE by BLIND'!AE50 -> 2 | E50: =D50 -> 2 | F50: =E50/B50 -> 0.13333333
A51: ='HUNTER by BLIND'!A51 -> 46053 | B51: ='HUNTER by BLIND'!AE51 -> 8 | C51: N/A | D51: ='GOOSE by BLIND'!AE51 -> 1 | E51: =D51 -> 1 | F51: =E51/B51 -> 0.125
A52: ='HUNTER by BLIND'!A52 -> 46074 | B52: ='HUNTER by BLIND'!AE52 -> 6 | C52: N/A | D52: ='GOOSE by BLIND'!AE52 -> 9 | E52: =D52 -> 9 | F52: =E52/B52 -> 1.5
A53: ='HUNTER by BLIND'!A53 -> 46075 | B53: ='HUNTER by BLIND'!AE53 -> 6 | C53: N/A | D53: ='GOOSE by BLIND'!AE53 -> 1 | E53: =D53 -> 1 | F53: =E53/B53 -> 0.16666667
A54: ='HUNTER by BLIND'!A54 -> 46078 | B54: ='HUNTER by BLIND'!AE54 -> 7 | C54: N/A | D54: ='GOOSE by BLIND'!AE54 -> 3 | E54: =D54 -> 3 | F54: =E54/B54 -> 0.42857143
A55: ='HUNTER by BLIND'!A55 -> 46081 | B55: ='HUNTER by BLIND'!AE55 -> 9 | C55: N/A | D55: ='GOOSE by BLIND'!AE55 -> 2 | E55: =D55 -> 2 | F55: =E55/B55 -> 0.22222222
A56: ='HUNTER by BLIND'!A56 -> 46082 | B56: ='HUNTER by BLIND'!AE56 -> 15 | C56: N/A | D56: ='GOOSE by BLIND'!AE56 -> 1 | E56: =D56 -> 1 | F56: =E56/B56 -> 0.066666667
A57: ='HUNTER by BLIND'!A57 -> 46085 | B57: ='HUNTER by BLIND'!AE57 -> 1 | C57: N/A | D57: ='GOOSE by BLIND'!AE57 -> 0 | E57: =D57 -> 0 | F57: =E57/B57 -> 0
A58: ='HUNTER by BLIND'!A58 -> 46088 | B58: ='HUNTER by BLIND'!AE58 -> 9 | C58: N/A | D58: ='GOOSE by BLIND'!AE58 -> 8 | E58: =D58 -> 8 | F58: =E58/B58 -> 0.88888889
A59: ='HUNTER by BLIND'!A59 -> 46089 | B59: ='HUNTER by BLIND'!AE59 -> 7 | C59: N/A | D59: ='GOOSE by BLIND'!AE59 -> 20 | E59: =D59 -> 20 | F59: =E59/B59 -> 2.8571429
A60: GRAND TOTAL | B60: =SUM(B2:B59) -> 1934 | C60: =SUM(C2:C59) -> 5233 | D60: =SUM(D2:D59) -> 180 | E60: =SUM(E2:E59) -> 5363 | F60: =E60/B60 -> 2.7730093
